Name | Last modified | Size | Description | |
---|---|---|---|---|
Parent Directory | - | |||
install-summary.dcf | 27-Jul-2024 06:37 | 257 | ||
install-out.txt | 27-Jul-2024 06:37 | 5.0K | ||
checksrc-summary.dcf | 27-Jul-2024 06:37 | 410 | ||
checksrc-out.txt | 27-Jul-2024 06:37 | 3.8K | ||
buildsrc-summary.dcf | 27-Jul-2024 06:37 | 414 | ||
buildsrc-out.txt | 27-Jul-2024 06:37 | 895 | ||