Index of /checkResults/release/bioc-LATEST/casper/raw-results/merida1
Name
Last modified
Size
Description
Parent Directory
-
install-summary.dcf
27-Jul-2024 06:40
268
install-out.txt
27-Jul-2024 06:40
8.1K
buildsrc-summary.dcf
27-Jul-2024 06:40
342
buildsrc-out.txt
27-Jul-2024 06:40
5.6K