Index of /checkResults/release/bioc-LATEST/casper/raw-results/kjohnson1
Name
Last modified
Size
Description
Parent Directory
-
buildsrc-out.txt
24-Jul-2024 22:07
5.6K
buildsrc-summary.dcf
24-Jul-2024 22:07
341
install-out.txt
24-Jul-2024 22:07
8.3K
install-summary.dcf
24-Jul-2024 22:07
267