Back to Multiple platform build/check report for BioC 3.14
AB[C]DEFGHIJKLMNOPQRSTUVWXYZ

This page was generated on 2021-11-29 15:05:16 -0500 (Mon, 29 Nov 2021).

BUILD results for canceR on tokay2

To the developers/maintainers of the canceR package:
- Please allow up to 24 hours (and sometimes 48 hours) for your latest push to git@git.bioconductor.org:packages/canceR.git to
reflect on this report. See How and When does the builder pull? When will my changes propagate? here for more information.
- Make sure to use the following settings in order to reproduce any error or warning you see on this page.

raw results

Package 240/2083HostnameOS / ArchINSTALLBUILDCHECKBUILD BIN
canceR 1.28.0  (landing page)
Karim Mezhoud
Snapshot Date: 2021-11-28 04:15:06 -0500 (Sun, 28 Nov 2021)
git_url: https://git.bioconductor.org/packages/canceR
git_branch: RELEASE_3_14
git_last_commit: 2fbf44c
git_last_commit_date: 2021-10-26 12:19:05 -0500 (Tue, 26 Oct 2021)
nebbiolo2Linux (Ubuntu 20.04.3 LTS) / x86_64  OK    OK    OK  UNNEEDED, same version is already published
tokay2Windows Server 2012 R2 Standard / x64  OK    OK    OK    OK  UNNEEDED, same version is already published
machv2macOS 10.14.6 Mojave / x86_64  OK    OK    OK    OK  UNNEEDED, same version is already published

Summary

Package: canceR
Version: 1.28.0
Command: chmod a+r canceR -R && C:\Users\biocbuild\bbs-3.14-bioc\R\bin\R.exe CMD build --keep-empty-dirs --no-resave-data canceR
StartedAt: 2021-11-28 10:59:13 -0500 (Sun, 28 Nov 2021)
EndedAt: 2021-11-28 10:59:40 -0500 (Sun, 28 Nov 2021)
EllapsedTime: 27.4 seconds
RetCode: 0
Status:   OK  
PackageFile: canceR_1.28.0.tar.gz
PackageFileSize: 28.38 MiB

Command output

##############################################################################
##############################################################################
###
### Running command:
###
###   chmod a+r canceR -R && C:\Users\biocbuild\bbs-3.14-bioc\R\bin\R.exe CMD build --keep-empty-dirs --no-resave-data canceR
###
##############################################################################
##############################################################################


* checking for file 'canceR/DESCRIPTION' ... OK
* preparing 'canceR':
* checking DESCRIPTION meta-information ... OK
* checking for LF line-endings in source and make files and shell scripts
* checking for empty or unneeded directories
* building 'canceR_1.28.0.tar.gz'