Back to Multiple platform build/check report for BioC 3.14
AB[C]DEFGHIJKLMNOPQRSTUVWXYZ

This page was generated on 2021-11-24 15:05:22 -0500 (Wed, 24 Nov 2021).

BUILD BIN results for canceR on tokay2

To the developers/maintainers of the canceR package:
- Please allow up to 24 hours (and sometimes 48 hours) for your latest push to git@git.bioconductor.org:packages/canceR.git to
reflect on this report. See How and When does the builder pull? When will my changes propagate? here for more information.
- Make sure to use the following settings in order to reproduce any error or warning you see on this page.

raw results

Package 240/2083HostnameOS / ArchINSTALLBUILDCHECKBUILD BIN
canceR 1.28.0  (landing page)
Karim Mezhoud
Snapshot Date: 2021-11-23 04:15:06 -0500 (Tue, 23 Nov 2021)
git_url: https://git.bioconductor.org/packages/canceR
git_branch: RELEASE_3_14
git_last_commit: 2fbf44c
git_last_commit_date: 2021-10-26 12:19:05 -0500 (Tue, 26 Oct 2021)
nebbiolo2Linux (Ubuntu 20.04.3 LTS) / x86_64  OK    OK    OK  UNNEEDED, same version is already published
tokay2Windows Server 2012 R2 Standard / x64  OK    OK    OK    OK  UNNEEDED, same version is already published
machv2macOS 10.14.6 Mojave / x86_64  OK    OK    OK    OK  UNNEEDED, same version is already published

Summary

Package: canceR
Version: 1.28.0
Command: rm -rf canceR.buildbin-libdir && mkdir canceR.buildbin-libdir && C:\Users\biocbuild\bbs-3.14-bioc\R\bin\R.exe CMD INSTALL --merge-multiarch --build --library=canceR.buildbin-libdir canceR_1.28.0.tar.gz
StartedAt: 2021-11-24 07:56:18 -0500 (Wed, 24 Nov 2021)
EndedAt: 2021-11-24 07:57:53 -0500 (Wed, 24 Nov 2021)
EllapsedTime: 94.8 seconds
RetCode: 0
Status:   OK  
PackageFile: canceR_1.28.0.zip
PackageFileSize: 3.055 MiB

Command output

##############################################################################
##############################################################################
###
### Running command:
###
###   rm -rf canceR.buildbin-libdir && mkdir canceR.buildbin-libdir && C:\Users\biocbuild\bbs-3.14-bioc\R\bin\R.exe CMD INSTALL --merge-multiarch --build --library=canceR.buildbin-libdir canceR_1.28.0.tar.gz
###
##############################################################################
##############################################################################



install for i386

* installing *source* package 'canceR' ...
** using staged installation
** R
** inst
** byte-compile and prepare package for lazy loading
** help
*** installing help indices
  converting help for package 'canceR'
    finding HTML links ... done
    GSEA.Analyze.Sets                       html  
    GSEA.ConsPlot                           html  
    GSEA.EnrichmentScore                    html  
    GSEA.EnrichmentScore2                   html  
    GSEA.Gct2Frame                          html  
    GSEA.Gct2Frame2                         html  
    GSEA.GeneRanking                        html  
    GSEA.HeatMapPlot                        html  
    GSEA.HeatMapPlot2                       html  
    GSEA.NormalizeCols                      html  
    GSEA.NormalizeRows                      html  
    GSEA                                    html  
    GSEA.ReadClsFile                        html  
    GSEA.Res2Frame                          html  
    GSEA.Threshold                          html  
    GSEA.VarFilter                          html  
    GSEA.write.gct                          html  
    Match_GeneList_MSigDB                   html  
    OLD.GSEA.EnrichmentScore                html  
    Run.GSEA                                html  
    about                                   html  
    canceR                                  html  
    canceRHelp                              html  
    canceR_Vignette                         html  
    cbind.na                                html  
    dialogGeneClassifier                    html  
    dialogMetOption                         html  
    dialogMut                               html  
    dialogOptionCircos                      html  
    dialogOptionGSEAlm                      html  
    dialogOptionPhenoTest                   html  
    dialogPlotOption_SkinCor                html  
    dialogSamplingGSEA                      html  
    dialogSelectFiles_GSEA                  html  
    dialogSpecificMut                       html  
    dialogSummary_GSEA                      html  
    dialoggetGeneListMSigDB                 html  
    displayInTable                          html  
    getCases                                html  
    getCasesGenProfs                        html  
    getCircos                               html  
    getClinicData_MultipleCases             html  
    getClinicalDataMatrix                   html  
    getCor_ExpCNAMet                        html  
    getGCTCLSExample                        html  
    getGCT_CLSfiles                         html  
    getGSEAlm_Diseases                      html  
    getGSEAlm_Variables                     html  
    getGenProfs                             html  
    getGeneExpMatrix                        html  
    getGeneList                             html  
    getGeneListExample                      html  
    getGeneListFromMSigDB                   html  
    getGenesClassifier                      html  
    getGenesTree_MultipleCases              html  
    getGenesTree_SingleCase                 html  
    getInTable                              html  
    getListProfData                         html  
    getMSigDB                               html  
    getMSigDBExample                        html  
    getMSigDBfile                           html  
    getMegaProfData                         html  
    getMetDataMultipleGenes                 html  
    getMutData                              html  
    getPhenoTest                            html  
    getProfilesDataMultipleGenes            html  
    getProfilesDataSingleGene               html  
    getSpecificMut                          html  
    getSummaryGSEA                          html  
    getSurvival                             html  
    getTextWin                              html  
    geteSet                                 html  
    modalDialog                             html  
    myGlobalEnv                             html  
    plotModel                               html  
    plot_1Gene_2GenProfs                    html  
    plot_2Genes_1GenProf                    html  
    rbind.na                                html  
    setWorkspace                            html  
    testCheckedCaseGenProf                  html  
** building package indices
** testing if installed package can be loaded from temporary location
** testing if installed package can be loaded from final location
** testing if installed package keeps a record of temporary installation path

install for x64

* installing *source* package 'canceR' ...
** testing if installed package can be loaded
* MD5 sums
packaged installation of 'canceR' as canceR_1.28.0.zip
* DONE (canceR)