Name | Last modified | Size | Description | |
---|---|---|---|---|
Parent Directory | - | |||
checksrc-out.txt | 29-Jun-2024 06:41 | 4.8K | ||
buildbin-out.txt | 29-Jun-2024 06:41 | 1.1K | ||
install-out.txt | 29-Jun-2024 06:41 | 959 | ||
buildsrc-out.txt | 29-Jun-2024 06:41 | 834 | ||
buildbin-summary.dcf | 29-Jun-2024 06:41 | 510 | ||
buildsrc-summary.dcf | 29-Jun-2024 06:41 | 449 | ||
checksrc-summary.dcf | 29-Jun-2024 06:41 | 443 | ||
install-summary.dcf | 29-Jun-2024 06:41 | 266 | ||