Name | Last modified | Size | Description | |
---|---|---|---|---|
Parent Directory | - | |||
buildbin-summary.dcf | 12-Jun-2024 03:43 | 451 | ||
buildbin-out.txt | 12-Jun-2024 03:43 | 1.0K | ||
checksrc-summary.dcf | 12-Jun-2024 03:43 | 450 | ||
checksrc-out.txt | 12-Jun-2024 03:43 | 2.0K | ||
buildsrc-summary.dcf | 12-Jun-2024 03:43 | 425 | ||
buildsrc-out.txt | 12-Jun-2024 03:43 | 812 | ||
install-summary.dcf | 12-Jun-2024 03:43 | 269 | ||
install-out.txt | 12-Jun-2024 03:43 | 1.0K | ||