Index of /checkResults/release/bioc-LATEST/calm/raw-results/palomino3

[ICO]NameLast modifiedSizeDescription

[DIR]Parent Directory  -  
[   ]install-summary.dcf13-Aug-2022 02:21 262  
[   ]checksrc-summary.dcf13-Aug-2022 02:21 434  
[   ]buildsrc-summary.dcf13-Aug-2022 02:21 441  
[   ]buildbin-summary.dcf13-Aug-2022 02:21 497  
[TXT]buildsrc-out.txt13-Aug-2022 02:21 884  
[TXT]install-out.txt13-Aug-2022 02:21 953  
[TXT]buildbin-out.txt13-Aug-2022 02:21 1.1K 
[TXT]checksrc-out.txt13-Aug-2022 02:21 3.1K