Index of /checkResults/release/bioc-LATEST/calm/raw-results/nebbiolo1

[ICO]NameLast modifiedSizeDescription

[DIR]Parent Directory  -  
[TXT]buildsrc-out.txt28-Jun-2022 00:09 857  
[   ]buildsrc-summary.dcf28-Jun-2022 00:09 407  
[TXT]checksrc-out.txt28-Jun-2022 00:09 3.1K 
[   ]checksrc-summary.dcf28-Jun-2022 00:09 411  
[TXT]install-out.txt28-Jun-2022 00:09 938  
[   ]install-summary.dcf28-Jun-2022 00:09 253