Index of /checkResults/release/bioc-LATEST/calm/raw-results/merida1

[ICO]NameLast modifiedSizeDescription

[DIR]Parent Directory  -  
[TXT]buildbin-out.txt25-Jun-2022 01:07 1.1K 
[   ]buildbin-summary.dcf25-Jun-2022 01:07 512  
[TXT]buildsrc-out.txt25-Jun-2022 01:07 867  
[   ]buildsrc-summary.dcf25-Jun-2022 01:07 419  
[TXT]checksrc-out.txt25-Jun-2022 01:07 3.2K 
[   ]checksrc-summary.dcf25-Jun-2022 01:07 432  
[TXT]install-out.txt25-Jun-2022 01:07 971  
[   ]install-summary.dcf25-Jun-2022 01:07 263