Index of /checkResults/release/bioc-LATEST/cageminer/raw-results

[ICO]NameLast modifiedSizeDescription

[DIR]Parent Directory  -  
[   ]info.dcf25-Jun-2022 01:07 298  
[DIR]merida1/25-Jun-2022 01:07 -  
[DIR]nebbiolo1/25-Jun-2022 01:04 -  
[DIR]palomino3/25-Jun-2022 01:05 -  
[DIR]riesling1/19-Mar-2022 00:07 -