Back to Multiple platform build/check report for BioC 3.14
AB[C]DEFGHIJKLMNOPQRSTUVWXYZ

This page was generated on 2022-01-19 13:06:26 -0500 (Wed, 19 Jan 2022).

HostnameOSArch (*)R versionInstalled pkgs
nebbiolo2Linux (Ubuntu 20.04.4 LTS)x86_644.1.2 (2021-11-01) -- "Bird Hippie" 4328
tokay2Windows Server 2012 R2 Standardx644.1.2 (2021-11-01) -- "Bird Hippie" 4077
machv2macOS 10.14.6 Mojavex86_644.1.2 (2021-11-01) -- "Bird Hippie" 4138
Click on any hostname to see more info about the system (e.g. compilers)      (*) as reported by 'uname -p', except on Windows and Mac OS X

INSTALL results for cTRAP on tokay2


To the developers/maintainers of the cTRAP package:
- Please allow up to 24 hours (and sometimes 48 hours) for your latest push to git@git.bioconductor.org:packages/cTRAP.git to
reflect on this report. See How and When does the builder pull? When will my changes propagate? here for more information.
- Make sure to use the following settings in order to reproduce any error or warning you see on this page.

raw results

Package 429/2083HostnameOS / ArchINSTALLBUILDCHECKBUILD BIN
cTRAP 1.12.0  (landing page)
Nuno Saraiva-Agostinho
Snapshot Date: 2022-01-18 01:55:07 -0500 (Tue, 18 Jan 2022)
git_url: https://git.bioconductor.org/packages/cTRAP
git_branch: RELEASE_3_14
git_last_commit: 8282ad2
git_last_commit_date: 2021-10-26 12:47:44 -0500 (Tue, 26 Oct 2021)
nebbiolo2Linux (Ubuntu 20.04.4 LTS) / x86_64  OK    OK    OK  UNNEEDED, same version is already published
tokay2Windows Server 2012 R2 Standard / x64  OK    OK    OK    OK  UNNEEDED, same version is already published
machv2macOS 10.14.6 Mojave / x86_64  OK    OK    ERROR    OK  

Summary

Package: cTRAP
Version: 1.12.0
Command: C:\cygwin\bin\curl.exe -O http://155.52.207.166/BBS/3.14/bioc/src/contrib/cTRAP_1.12.0.tar.gz && rm -rf cTRAP.buildbin-libdir && mkdir cTRAP.buildbin-libdir && C:\Users\biocbuild\bbs-3.14-bioc\R\bin\R.exe CMD INSTALL --merge-multiarch --build --library=cTRAP.buildbin-libdir cTRAP_1.12.0.tar.gz && C:\Users\biocbuild\bbs-3.14-bioc\R\bin\R.exe CMD INSTALL cTRAP_1.12.0.zip && rm cTRAP_1.12.0.tar.gz cTRAP_1.12.0.zip
StartedAt: 2022-01-18 06:20:50 -0500 (Tue, 18 Jan 2022)
EndedAt: 2022-01-18 06:24:54 -0500 (Tue, 18 Jan 2022)
EllapsedTime: 244.5 seconds
RetCode: 0
Status:   OK  

Command output

##############################################################################
##############################################################################
###
### Running command:
###
###   C:\cygwin\bin\curl.exe -O http://155.52.207.166/BBS/3.14/bioc/src/contrib/cTRAP_1.12.0.tar.gz && rm -rf cTRAP.buildbin-libdir && mkdir cTRAP.buildbin-libdir && C:\Users\biocbuild\bbs-3.14-bioc\R\bin\R.exe CMD INSTALL --merge-multiarch --build --library=cTRAP.buildbin-libdir cTRAP_1.12.0.tar.gz && C:\Users\biocbuild\bbs-3.14-bioc\R\bin\R.exe CMD INSTALL cTRAP_1.12.0.zip && rm cTRAP_1.12.0.tar.gz cTRAP_1.12.0.zip
###
##############################################################################
##############################################################################


  % Total    % Received % Xferd  Average Speed   Time    Time     Time  Current
                                 Dload  Upload   Total   Spent    Left  Speed

  0     0    0     0    0     0      0      0 --:--:-- --:--:-- --:--:--     0
100 3967k  100 3967k    0     0  4998k      0 --:--:-- --:--:-- --:--:-- 5002k

install for i386

* installing *source* package 'cTRAP' ...
** using staged installation
** R
** data
*** moving datasets to lazyload DB
** inst
** byte-compile and prepare package for lazy loading
** help
*** installing help indices
  converting help for package 'cTRAP'
    finding HTML links ... done
    ENCODEmetadata                          html  
    GCT-class                               html  
    HTMLfast                                html  
    analyseDrugSetEnrichment                html  
    as.table.referenceComparison            html  
    cTRAP                                   html  
    calculateCellLineMean                   html  
    calculateEvenlyDistributedBins          html  
    checkColnames                           html  
    chunkColumns                            html  
    closeOpenHandles                        html  
    cmapMetadata                            html  
    cmapPerturbationsCompounds              html  
    cmapPerturbationsKD                     html  
    compareQuantile                         html  
    compareWithAllMethods                   html  
    convertENSEMBLtoGeneSymbols             html  
    convertGeneIdentifiers                  html  
    counts                                  html  
    diffExprStat                            html  
    dimnames.expressionDrugSensitivityAssociation
                                            html  
    dot-plotBubbles                         html  
    dot-prepareNavPage                      html  
    dot-traceInList                         html  
    downloadENCODEknockdownMetadata         html  
    downloadIfNotFound                      html  
    filterCMapMetadata                      html  
    findIntersectingCompounds               html  
    fix.datatypes                           html  
    getCMapConditions                       html  
    getCMapPerturbationTypes                html  
    getENCODEcontrols                       html  
    launchCMapDataLoader                    html  
    launchDiffExprLoader                    html  
    launchDrugSetEnrichmentAnalyser         html  
    launchMetadataViewer                    html  
    launchResultPlotter                     html  
    listExpressionDrugSensitivityAssociation
                                            html  
    loadCMapData                            html  
    loadCMapZscores                         html  
    loadCTRPgeneExpression                  html  
    loadDrugDescriptors                     html  
    loadENCODEsample                        html  
    loadENCODEsamples                       html  
    loadExpressionDrugSensitivityAssociation
                                            html  
    loadNCI60drugSensitivity                html  
    matchStatsWithDrugSetsID                html  
    parseCMapID                             html  
    performDifferentialExpression           html  
    performGSEA                             html  
    plot.perturbationChanges                html  
    plot.referenceComparison                html  
    plotDrugSetEnrichment                   html  
    plotESplot                              html  
    plotGSEA                                html  
    plotMetricDistribution                  html  
    plotSingleCorr                          html  
    plotTargetingDrugsVSsimilarPerturbations
                                            html  
    predictTargetingDrugs                   html  
    prepareCMapPerturbations                html  
    prepareDrugSets                         html  
    prepareENCODEgeneExpression             html  
    prepareExpressionDrugSensitivityAssociation
                                            html  
    prepareGSEAgenesets                     html  
    prepareSetsCompoundInfo                 html  
    prepareStatsCompoundInfo                html  
    prepareWordBreak                        html  
    print.similarPerturbations              html  
    processByChunks                         html  
    processIds                              html  
    rankAgainstReference                    html  
    rankColumns                             html  
    rankSimilarPerturbations                html  
    readGctxIds                             html  
    readGctxMeta                            html  
    stripStr                                html  
    subsetData                              html  
    subsetDim                               html  
    subsetToIds                             html  
** building package indices
** installing vignettes
** testing if installed package can be loaded from temporary location
** testing if installed package can be loaded from final location
** testing if installed package keeps a record of temporary installation path

install for x64

* installing *source* package 'cTRAP' ...
** testing if installed package can be loaded
* MD5 sums
packaged installation of 'cTRAP' as cTRAP_1.12.0.zip
* DONE (cTRAP)
* installing to library 'C:/Users/biocbuild/bbs-3.14-bioc/R/library'
package 'cTRAP' successfully unpacked and MD5 sums checked