Index of /checkResults/release/bioc-LATEST/cTRAP/raw-results

[ICO]NameLast modifiedSizeDescription

[DIR]Parent Directory  -  
[   ]info.dcf27-Nov-2022 01:07 286  
[DIR]kjohnson/12-Jul-2022 00:06 -  
[DIR]lconway/27-Nov-2022 01:07 -  
[DIR]nebbiolo2/27-Nov-2022 01:05 -  
[DIR]palomino4/27-Nov-2022 01:06 -