Back to Multiple platform build/check report for BioC 3.16
AB[C]DEFGHIJKLMNOPQRSTUVWXYZ

This page was generated on 2022-12-09 11:05:58 -0500 (Fri, 09 Dec 2022).

HostnameOSArch (*)R versionInstalled pkgs
nebbiolo2Linux (Ubuntu 20.04.5 LTS)x86_644.2.2 (2022-10-31) -- "Innocent and Trusting" 4506
palomino4Windows Server 2022 Datacenterx644.2.2 (2022-10-31 ucrt) -- "Innocent and Trusting" 4283
lconwaymacOS 12.5.1 Montereyx86_644.2.2 (2022-10-31) -- "Innocent and Trusting" 4312
Click on any hostname to see more info about the system (e.g. compilers)      (*) as reported by 'uname -p', except on Windows and Mac OS X

INSTALL results for cTRAP on nebbiolo2


To the developers/maintainers of the cTRAP package:
- Please allow up to 24 hours (and sometimes 48 hours) for your latest push to git@git.bioconductor.org:packages/cTRAP.git to
reflect on this report. See How and When does the builder pull? When will my changes propagate? for more information.
- Make sure to use the following settings in order to reproduce any error or warning you see on this page.

raw results

Package 453/2183HostnameOS / ArchINSTALLBUILDCHECKBUILD BIN
cTRAP 1.16.0  (landing page)
Nuno Saraiva-Agostinho
Snapshot Date: 2022-12-08 14:00:03 -0500 (Thu, 08 Dec 2022)
git_url: https://git.bioconductor.org/packages/cTRAP
git_branch: RELEASE_3_16
git_last_commit: 2c43ff9
git_last_commit_date: 2022-11-01 11:18:44 -0500 (Tue, 01 Nov 2022)
nebbiolo2Linux (Ubuntu 20.04.5 LTS) / x86_64  OK    OK    OK  UNNEEDED, same version is already published
palomino4Windows Server 2022 Datacenter / x64  OK    OK    WARNINGS    OK  UNNEEDED, same version is already published
lconwaymacOS 12.5.1 Monterey / x86_64  OK    OK    OK    OK  UNNEEDED, same version is already published

Summary

Package: cTRAP
Version: 1.16.0
Command: /home/biocbuild/bbs-3.16-bioc/R/bin/R CMD INSTALL cTRAP
StartedAt: 2022-12-08 15:39:09 -0500 (Thu, 08 Dec 2022)
EndedAt: 2022-12-08 15:39:41 -0500 (Thu, 08 Dec 2022)
EllapsedTime: 32.3 seconds
RetCode: 0
Status:   OK  

Command output

##############################################################################
##############################################################################
###
### Running command:
###
###   /home/biocbuild/bbs-3.16-bioc/R/bin/R CMD INSTALL cTRAP
###
##############################################################################
##############################################################################


* installing to library ‘/home/biocbuild/bbs-3.16-bioc/R/library’
* installing *source* package ‘cTRAP’ ...
** using staged installation
** R
** data
*** moving datasets to lazyload DB
** inst
** byte-compile and prepare package for lazy loading
** help
*** installing help indices
** building package indices
** installing vignettes
** testing if installed package can be loaded from temporary location
** testing if installed package can be loaded from final location
** testing if installed package keeps a record of temporary installation path
* DONE (cTRAP)