Back to Multiple platform build/check report for BioC 3.14
AB[C]DEFGHIJKLMNOPQRSTUVWXYZ

This page was generated on 2021-11-24 15:05:22 -0500 (Wed, 24 Nov 2021).

BUILD results for cBioPortalData on tokay2

To the developers/maintainers of the cBioPortalData package:
- Please allow up to 24 hours (and sometimes 48 hours) for your latest push to git@git.bioconductor.org:packages/cBioPortalData.git to
reflect on this report. See How and When does the builder pull? When will my changes propagate? here for more information.
- Make sure to use the following settings in order to reproduce any error or warning you see on this page.

raw results

Package 254/2083HostnameOS / ArchINSTALLBUILDCHECKBUILD BIN
cBioPortalData 2.6.0  (landing page)
Marcel Ramos
Snapshot Date: 2021-11-23 04:15:06 -0500 (Tue, 23 Nov 2021)
git_url: https://git.bioconductor.org/packages/cBioPortalData
git_branch: RELEASE_3_14
git_last_commit: d8a1095
git_last_commit_date: 2021-10-26 12:59:53 -0500 (Tue, 26 Oct 2021)
nebbiolo2Linux (Ubuntu 20.04.3 LTS) / x86_64  OK    OK    WARNINGS  UNNEEDED, same version is already published
tokay2Windows Server 2012 R2 Standard / x64  OK    OK    WARNINGS    OK  UNNEEDED, same version is already published
machv2macOS 10.14.6 Mojave / x86_64  OK    OK    WARNINGS    OK  UNNEEDED, same version is already published

Summary

Package: cBioPortalData
Version: 2.6.0
Command: chmod a+r cBioPortalData -R && C:\Users\biocbuild\bbs-3.14-bioc\R\bin\R.exe CMD build --keep-empty-dirs --no-resave-data cBioPortalData
StartedAt: 2021-11-23 10:49:43 -0500 (Tue, 23 Nov 2021)
EndedAt: 2021-11-23 10:53:26 -0500 (Tue, 23 Nov 2021)
EllapsedTime: 223.1 seconds
RetCode: 0
Status:   OK  
PackageFile: cBioPortalData_2.6.0.tar.gz
PackageFileSize: 737.2 KiB

Command output

##############################################################################
##############################################################################
###
### Running command:
###
###   chmod a+r cBioPortalData -R && C:\Users\biocbuild\bbs-3.14-bioc\R\bin\R.exe CMD build --keep-empty-dirs --no-resave-data cBioPortalData
###
##############################################################################
##############################################################################


* checking for file 'cBioPortalData/DESCRIPTION' ... OK
* preparing 'cBioPortalData':
* checking DESCRIPTION meta-information ... OK
* installing the package to build vignettes
* creating vignettes ... OK
* checking for LF line-endings in source and make files and shell scripts
* checking for empty or unneeded directories
* building 'cBioPortalData_2.6.0.tar.gz'