Index of /checkResults/release/bioc-LATEST/bsseq/raw-results/nebbiolo1

[ICO]NameLast modifiedSizeDescription

[DIR]Parent Directory  -  
[TXT]buildsrc-out.txt20-Jul-2024 06:37 891  
[   ]buildsrc-summary.dcf20-Jul-2024 06:37 412  
[TXT]checksrc-out.txt20-Jul-2024 06:37 4.3K 
[   ]checksrc-summary.dcf20-Jul-2024 06:37 406  
[TXT]install-out.txt20-Jul-2024 06:37 2.1K 
[   ]install-summary.dcf20-Jul-2024 06:37 255