Index of /checkResults/release/bioc-LATEST/bsseq/raw-results/merida1

[ICO]NameLast modifiedSizeDescription

[DIR]Parent Directory  -  
[TXT]buildbin-out.txt20-Jul-2024 06:39 4.6K 
[   ]buildbin-summary.dcf20-Jul-2024 06:39 519  
[TXT]buildsrc-out.txt20-Jul-2024 06:39 901  
[   ]buildsrc-summary.dcf20-Jul-2024 06:39 422  
[TXT]checksrc-out.txt20-Jul-2024 06:39 4.4K 
[   ]checksrc-summary.dcf20-Jul-2024 06:39 436  
[TXT]install-out.txt20-Jul-2024 06:39 2.7K 
[   ]install-summary.dcf20-Jul-2024 06:39 266