Index of /checkResults/release/bioc-LATEST/bnbc/raw-results/palomino3

[ICO]NameLast modifiedSizeDescription

[DIR]Parent Directory  -  
[TXT]buildbin-out.txt15-Jun-2024 03:38 2.0K 
[   ]buildbin-summary.dcf15-Jun-2024 03:38 498  
[TXT]buildsrc-out.txt15-Jun-2024 03:38 949  
[   ]buildsrc-summary.dcf15-Jun-2024 03:38 441  
[TXT]checksrc-out.txt15-Jun-2024 03:38 4.4K 
[   ]checksrc-summary.dcf15-Jun-2024 03:38 435  
[TXT]install-out.txt15-Jun-2024 03:38 1.8K 
[   ]install-summary.dcf15-Jun-2024 03:38 262