Index of /checkResults/release/bioc-LATEST/bnbc/raw-results/merida1

[ICO]NameLast modifiedSizeDescription

[DIR]Parent Directory  -  
[   ]install-summary.dcf10-Jul-2024 06:41 264  
[   ]buildsrc-summary.dcf10-Jul-2024 06:41 419  
[   ]checksrc-summary.dcf10-Jul-2024 06:41 432  
[   ]buildbin-summary.dcf10-Jul-2024 06:41 513  
[TXT]buildsrc-out.txt10-Jul-2024 06:41 929  
[TXT]install-out.txt10-Jul-2024 06:41 2.1K 
[TXT]checksrc-out.txt10-Jul-2024 06:41 3.9K 
[TXT]buildbin-out.txt10-Jul-2024 06:41 4.1K