Back to Multiple platform build/check report for BioC 3.18:   simplified   long
A[B]CDEFGHIJKLMNOPQRSTUVWXYZ

This page was generated on 2024-03-29 11:36:35 -0400 (Fri, 29 Mar 2024).

HostnameOSArch (*)R versionInstalled pkgs
nebbiolo2Linux (Ubuntu 22.04.3 LTS)x86_644.3.3 (2024-02-29) -- "Angel Food Cake" 4669
palomino4Windows Server 2022 Datacenterx644.3.3 (2024-02-29 ucrt) -- "Angel Food Cake" 4404
merida1macOS 12.7.1 Montereyx86_644.3.3 (2024-02-29) -- "Angel Food Cake" 4427
Click on any hostname to see more info about the system (e.g. compilers)      (*) as reported by 'uname -p', except on Windows and Mac OS X

Package 229/2266HostnameOS / ArchINSTALLBUILDCHECKBUILD BIN
bnbc 1.24.2  (landing page)
Kipper Fletez-Brant
Snapshot Date: 2024-03-27 14:05:05 -0400 (Wed, 27 Mar 2024)
git_url: https://git.bioconductor.org/packages/bnbc
git_branch: RELEASE_3_18
git_last_commit: c80ab47
git_last_commit_date: 2024-01-26 13:19:18 -0400 (Fri, 26 Jan 2024)
nebbiolo2Linux (Ubuntu 22.04.3 LTS) / x86_64  OK    OK    OK  UNNEEDED, same version is already published
palomino4Windows Server 2022 Datacenter / x64  OK    OK    OK    OK  UNNEEDED, same version is already published
merida1macOS 12.7.1 Monterey / x86_64  OK    OK    OK    OK  UNNEEDED, same version is already published
kjohnson1macOS 13.6.1 Ventura / arm64see weekly results here

BUILD results for bnbc on palomino4


To the developers/maintainers of the bnbc package:
- Allow up to 24 hours (and sometimes 48 hours) for your latest push to git@git.bioconductor.org:packages/bnbc.git to reflect on this report. See Troubleshooting Build Report for more information.
- Use the following Renviron settings to reproduce errors and warnings.
- If 'R CMD check' started to fail recently on the Linux builder(s) over a missing dependency, add the missing dependency to 'Suggests:' in your DESCRIPTION file. See Renviron.bioc for more information.

raw results


Summary

Package: bnbc
Version: 1.24.2
Command: chmod a+r bnbc -R && F:\biocbuild\bbs-3.18-bioc\R\bin\R.exe CMD build --keep-empty-dirs --no-resave-data bnbc
StartedAt: 2024-03-27 17:23:13 -0400 (Wed, 27 Mar 2024)
EndedAt: 2024-03-27 17:25:01 -0400 (Wed, 27 Mar 2024)
EllapsedTime: 108.1 seconds
RetCode: 0
Status:   OK  
PackageFile: bnbc_1.24.2.tar.gz
PackageFileSize: 4.152 MiB

Command output

##############################################################################
##############################################################################
###
### Running command:
###
###   chmod a+r bnbc -R && F:\biocbuild\bbs-3.18-bioc\R\bin\R.exe CMD build --keep-empty-dirs --no-resave-data bnbc
###
##############################################################################
##############################################################################


* checking for file 'bnbc/DESCRIPTION' ... OK
* preparing 'bnbc':
* checking DESCRIPTION meta-information ... OK
* cleaning src
* installing the package to process help pages
* saving partial Rd database
* creating vignettes ... OK
* cleaning src
* checking for LF line-endings in source and make files and shell scripts
* checking for empty or unneeded directories
* looking to see if a 'data/datalist' file should be added
* building 'bnbc_1.24.2.tar.gz'