Name | Last modified | Size | Description | |
---|---|---|---|---|
Parent Directory | - | |||
buildsrc-out.txt | 27-Jul-2024 06:37 | 885 | ||
buildsrc-summary.dcf | 27-Jul-2024 06:37 | 430 | ||
checksrc-out.txt | 27-Jul-2024 06:37 | 3.6K | ||
checksrc-summary.dcf | 27-Jul-2024 06:37 | 430 | ||
install-out.txt | 27-Jul-2024 06:37 | 964 | ||
install-summary.dcf | 27-Jul-2024 06:37 | 267 | ||