![]() | Name | Last modified | Size | Description |
---|---|---|---|---|
![]() | Parent Directory | - | ||
![]() | buildsrc-out.txt | 29-Sep-2023 00:35 | 885 | |
![]() | buildsrc-summary.dcf | 29-Sep-2023 00:35 | 430 | |
![]() | checksrc-out.txt | 29-Sep-2023 00:35 | 3.6K | |
![]() | checksrc-summary.dcf | 29-Sep-2023 00:35 | 430 | |
![]() | install-out.txt | 29-Sep-2023 00:35 | 964 | |
![]() | install-summary.dcf | 29-Sep-2023 00:35 | 267 | |