Index of /checkResults/release/bioc-LATEST/blacksheepr/raw-results
Name
Last modified
Size
Description
Parent Directory
-
palomino3/
06-Jun-2023 00:04
-
nebbiolo1/
06-Jun-2023 00:03
-
merida1/
06-Jun-2023 00:05
-
info.dcf
06-Jun-2023 00:05
277