Back to Multiple platform build/check report for BioC 3.18:   simplified   long
A[B]CDEFGHIJKLMNOPQRSTUVWXYZ

This page was generated on 2024-03-29 11:36:35 -0400 (Fri, 29 Mar 2024).

HostnameOSArch (*)R versionInstalled pkgs
nebbiolo2Linux (Ubuntu 22.04.3 LTS)x86_644.3.3 (2024-02-29) -- "Angel Food Cake" 4669
palomino4Windows Server 2022 Datacenterx644.3.3 (2024-02-29 ucrt) -- "Angel Food Cake" 4404
merida1macOS 12.7.1 Montereyx86_644.3.3 (2024-02-29) -- "Angel Food Cake" 4427
Click on any hostname to see more info about the system (e.g. compilers)      (*) as reported by 'uname -p', except on Windows and Mac OS X

Package 210/2266HostnameOS / ArchINSTALLBUILDCHECKBUILD BIN
biomvRCNS 1.42.2  (landing page)
Yang Du
Snapshot Date: 2024-03-27 14:05:05 -0400 (Wed, 27 Mar 2024)
git_url: https://git.bioconductor.org/packages/biomvRCNS
git_branch: RELEASE_3_18
git_last_commit: b3a0be7
git_last_commit_date: 2023-12-19 22:48:10 -0400 (Tue, 19 Dec 2023)
nebbiolo2Linux (Ubuntu 22.04.3 LTS) / x86_64  OK    OK    OK  UNNEEDED, same version is already published
palomino4Windows Server 2022 Datacenter / x64  OK    OK    OK    OK  UNNEEDED, same version is already published
merida1macOS 12.7.1 Monterey / x86_64  OK    OK    OK    OK  UNNEEDED, same version is already published
kjohnson1macOS 13.6.1 Ventura / arm64see weekly results here

CHECK results for biomvRCNS on palomino4


To the developers/maintainers of the biomvRCNS package:
- Allow up to 24 hours (and sometimes 48 hours) for your latest push to git@git.bioconductor.org:packages/biomvRCNS.git to reflect on this report. See Troubleshooting Build Report for more information.
- Use the following Renviron settings to reproduce errors and warnings.
- If 'R CMD check' started to fail recently on the Linux builder(s) over a missing dependency, add the missing dependency to 'Suggests:' in your DESCRIPTION file. See Renviron.bioc for more information.

raw results


Summary

Package: biomvRCNS
Version: 1.42.2
Command: F:\biocbuild\bbs-3.18-bioc\R\bin\R.exe CMD check --no-multiarch --install=check:biomvRCNS.install-out.txt --library=F:\biocbuild\bbs-3.18-bioc\R\library --no-vignettes --timings biomvRCNS_1.42.2.tar.gz
StartedAt: 2024-03-27 22:50:43 -0400 (Wed, 27 Mar 2024)
EndedAt: 2024-03-27 22:56:46 -0400 (Wed, 27 Mar 2024)
EllapsedTime: 363.4 seconds
RetCode: 0
Status:   OK  
CheckDir: biomvRCNS.Rcheck
Warnings: 0

Command output

##############################################################################
##############################################################################
###
### Running command:
###
###   F:\biocbuild\bbs-3.18-bioc\R\bin\R.exe CMD check --no-multiarch --install=check:biomvRCNS.install-out.txt --library=F:\biocbuild\bbs-3.18-bioc\R\library --no-vignettes --timings biomvRCNS_1.42.2.tar.gz
###
##############################################################################
##############################################################################


* using log directory 'F:/biocbuild/bbs-3.18-bioc/meat/biomvRCNS.Rcheck'
* using R version 4.3.3 (2024-02-29 ucrt)
* using platform: x86_64-w64-mingw32 (64-bit)
* R was compiled by
    gcc.exe (GCC) 12.3.0
    GNU Fortran (GCC) 12.3.0
* running under: Windows Server 2022 x64 (build 20348)
* using session charset: UTF-8
* using option '--no-vignettes'
* checking for file 'biomvRCNS/DESCRIPTION' ... OK
* checking extension type ... Package
* this is package 'biomvRCNS' version '1.42.2'
* checking package namespace information ... OK
* checking package dependencies ... OK
* checking if this is a source package ... OK
* checking if there is a namespace ... OK
* checking for hidden files and directories ... OK
* checking for portable file names ... OK
* checking whether package 'biomvRCNS' can be installed ... OK
* used C compiler: 'gcc.exe (GCC) 12.3.0'
* checking installed package size ... OK
* checking package directory ... OK
* checking 'build' directory ... OK
* checking DESCRIPTION meta-information ... OK
* checking top-level files ... OK
* checking for left-over files ... OK
* checking index information ... OK
* checking package subdirectories ... OK
* checking R files for non-ASCII characters ... OK
* checking R files for syntax errors ... OK
* checking whether the package can be loaded ... OK
* checking whether the package can be loaded with stated dependencies ... OK
* checking whether the package can be unloaded cleanly ... OK
* checking whether the namespace can be loaded with stated dependencies ... OK
* checking whether the namespace can be unloaded cleanly ... OK
* checking dependencies in R code ... NOTE
'library' or 'require' calls in package code:
  'GenomicFeatures' 'cluster' 'dynamicTreeCut' 'parallel'
  Please use :: or requireNamespace() instead.
  See section 'Suggested packages' in the 'Writing R Extensions' manual.
* checking S3 generic/method consistency ... OK
* checking replacement functions ... OK
* checking foreign function calls ... OK
* checking R code for possible problems ... NOTE
biomvRGviz: no visible global function definition for 'rainbow'
biomvRGviz: no visible global function definition for 'hasArg'
biomvRGviz: no visible global function definition for 'graphics.off'
biomvRGviz: no visible global function definition for 'setEPS'
biomvRGviz: no visible global function definition for 'postscript'
biomvRGviz: no visible global function definition for 'pdf'
biomvRGviz: no visible global function definition for 'dev.off'
biomvRhsmm: no visible global function definition for 'is'
biomvRhsmm: no visible binding for global variable 'mclapply'
biomvRhsmm : <anonymous> : <anonymous>: no visible global function
  definition for 'DataFrame'
biomvRhsmm : <anonymous> : <anonymous>: no visible global function
  definition for 'Rle'
biomvRhsmm: no visible global function definition for 'DataFrame'
biomvRhsmm: no visible binding for global variable 'DataFrame'
biomvRhsmm: no visible global function definition for 'new'
biomvRmgmr: no visible global function definition for 'seqlevels<-'
biomvRmgmr: no visible global function definition for 'DataFrame'
biomvRmgmr: no visible global function definition for 'new'
biomvRseg: no visible global function definition for 'seqlevels<-'
biomvRseg: no visible global function definition for 'DataFrame'
biomvRseg: no visible global function definition for 'new'
estEmis: no visible global function definition for 'clara'
gammaFit: no visible global function definition for 'cov.wt'
hsmmRun: no visible global function definition for 'Rle'
hsmmRun : <anonymous>: no visible global function definition for 'Rle'
hsmmRun: no visible global function definition for 'seqlevels<-'
initEmis : <anonymous>: no visible global function definition for
  'dpois'
initEmis : <anonymous>: no visible global function definition for
  'dnorm'
initEmis : <anonymous>: no visible global function definition for
  'dnbinom'
initEmis : <anonymous>: no visible global function definition for
  'cov2cor'
initEmis : <anonymous>: no visible global function definition for 'dt'
initEmis : <anonymous>: no visible global function definition for
  'cov.wt'
initEmis : <anonymous>: no visible global function definition for
  'weighted.mean'
initSojDd : <anonymous>: no visible global function definition for
  'dgamma'
initSojDd : <anonymous>: no visible global function definition for
  'dpois'
initSojDd : <anonymous>: no visible global function definition for
  'dnbinom'
maxGapminRun: no visible global function definition for 'Rle'
maxGapminRun: no visible global function definition for 'runValue'
nbinomCLLDD: no visible global function definition for 'cov.wt'
nbinomCLLDD: no visible global function definition for 'dnbinom'
poisFit : <anonymous>: no visible global function definition for
  'dpois'
preClustGrp: no visible global function definition for 'dist'
preClustGrp: no visible global function definition for 'hclust'
preClustGrp: no visible global function definition for 'cutreeDynamic'
regionSegAlphaNB: no visible global function definition for 'mclapply'
regionSegCost: no visible global function definition for 'mclapply'
simSegData: no visible global function definition for 'runValue'
simSegData: no visible global function definition for 'Rle'
simSegData: no visible global function definition for 'pdf'
simSegData: no visible global function definition for 'ts.plot'
simSegData: no visible global function definition for 'dev.off'
simUvSegData: no visible global function definition for 'rnorm'
simUvSegData: no visible global function definition for 'rt'
simUvSegData: no visible global function definition for 'rgamma'
simUvSegData: no visible global function definition for 'rpois'
simUvSegData: no visible global function definition for 'rnbinom'
sojournAnno: no visible global function definition for 'is'
sojournAnno: no visible global function definition for 'transcripts'
sojournAnno: no visible global function definition for 'seqlengths'
sojournAnno: no visible global function definition for 'exons'
sojournAnno: no visible global function definition for
  'intronsByTranscript'
splitFarNeighbouryhat: no visible global function definition for
  'runValue'
tmvtfFit: no visible global function definition for 'cov.wt'
unifMJ : <anonymous>: no visible global function definition for 'dunif'
unifMJ : <anonymous> : <anonymous>: no visible global function
  definition for 'dunif'
plot,biomvRCNS-ANY: no visible binding for global variable 'ssetst'
Undefined global functions or variables:
  DataFrame Rle clara cov.wt cov2cor cutreeDynamic dev.off dgamma dist
  dnbinom dnorm dpois dt dunif exons graphics.off hasArg hclust
  intronsByTranscript is mclapply new pdf postscript rainbow rgamma
  rnbinom rnorm rpois rt runValue seqlengths seqlevels<- setEPS ssetst
  transcripts ts.plot weighted.mean
Consider adding
  importFrom("grDevices", "dev.off", "graphics.off", "pdf", "postscript",
             "rainbow", "setEPS")
  importFrom("methods", "hasArg", "is", "new")
  importFrom("stats", "cov.wt", "cov2cor", "dgamma", "dist", "dnbinom",
             "dnorm", "dpois", "dt", "dunif", "hclust", "rgamma",
             "rnbinom", "rnorm", "rpois", "rt", "ts.plot",
             "weighted.mean")
to your NAMESPACE file (and ensure that your DESCRIPTION Imports field
contains 'methods').
* checking Rd files ... OK
* checking Rd metadata ... OK
* checking Rd cross-references ... OK
* checking for missing documentation entries ... OK
* checking for code/documentation mismatches ... OK
* checking Rd \usage sections ... OK
* checking Rd contents ... OK
* checking for unstated dependencies in examples ... OK
* checking contents of 'data' directory ... OK
* checking data for non-ASCII characters ... OK
* checking data for ASCII and uncompressed saves ... OK
* checking line endings in C/C++/Fortran sources/headers ... OK
* checking compiled code ... NOTE
Note: information on .o files for x64 is not available
File 'F:/biocbuild/bbs-3.18-bioc/R/library/biomvRCNS/libs/x64/biomvRCNS.dll':
  Found 'abort', possibly from 'abort' (C), 'runtime' (Fortran)

Compiled code should not call entry points which might terminate R nor
write to stdout/stderr instead of to the console, nor use Fortran I/O
nor system RNGs nor [v]sprintf. The detected symbols are linked into
the code but might come from libraries and not actually be called.

See 'Writing portable packages' in the 'Writing R Extensions' manual.
* checking sizes of PDF files under 'inst/doc' ... OK
* checking files in 'vignettes' ... OK
* checking examples ... OK
Examples with CPU (user + system) or elapsed time > 5s
           user system elapsed
biomvRhsmm 6.21   0.25    6.45
biomvRGviz 5.58   0.18    5.75
* checking for unstated dependencies in vignettes ... OK
* checking package vignettes in 'inst/doc' ... OK
* checking running R code from vignettes ... SKIPPED
* checking re-building of vignette outputs ... SKIPPED
* checking PDF version of manual ... OK
* DONE

Status: 3 NOTEs
See
  'F:/biocbuild/bbs-3.18-bioc/meat/biomvRCNS.Rcheck/00check.log'
for details.



Installation output

biomvRCNS.Rcheck/00install.out

##############################################################################
##############################################################################
###
### Running command:
###
###   F:\biocbuild\bbs-3.18-bioc\R\bin\R.exe CMD INSTALL biomvRCNS
###
##############################################################################
##############################################################################


* installing to library 'F:/biocbuild/bbs-3.18-bioc/R/library'
* installing *source* package 'biomvRCNS' ...
** using staged installation
** libs
using C compiler: 'gcc.exe (GCC) 12.3.0'
gcc  -I"F:/biocbuild/bbs-3.18-bioc/R/include" -DNDEBUG     -I"C:/rtools43/x86_64-w64-mingw32.static.posix/include"     -O2 -Wall  -mfpmath=sse -msse2 -mstackrealign  -c biomvRCNS.c -o biomvRCNS.o
gcc -shared -s -static-libgcc -o biomvRCNS.dll tmp.def biomvRCNS.o -LC:/rtools43/x86_64-w64-mingw32.static.posix/lib/x64 -LC:/rtools43/x86_64-w64-mingw32.static.posix/lib -LF:/biocbuild/bbs-3.18-bioc/R/bin/x64 -lR
installing to F:/biocbuild/bbs-3.18-bioc/R/library/00LOCK-biomvRCNS/00new/biomvRCNS/libs/x64
** R
** data
** inst
** byte-compile and prepare package for lazy loading
** help
*** installing help indices
** building package indices
** installing vignettes
** testing if installed package can be loaded from temporary location
** testing if installed package can be loaded from final location
** testing if installed package keeps a record of temporary installation path
* DONE (biomvRCNS)

Tests output


Example timings

biomvRCNS.Rcheck/biomvRCNS-Ex.timings

nameusersystemelapsed
biomvRCNS-class000
biomvRGviz5.580.185.75
biomvRhsmm6.210.256.45
biomvRmgmr0.400.010.42
biomvRseg2.660.062.72
hsmmRun0.080.020.09
maxGapminRun000
regionSegAlphaNB0.050.000.05
regionSegCost000
simSegData000
sojournAnno0.040.000.05
splitFarNeighbour000