Name | Last modified | Size | Description | |
---|---|---|---|---|
Parent Directory | - | |||
buildsrc-out.txt | 17-Jul-2024 06:38 | 818 | ||
buildsrc-summary.dcf | 17-Jul-2024 06:38 | 426 | ||
checksrc-out.txt | 17-Jul-2024 06:38 | 3.6K | ||
checksrc-summary.dcf | 17-Jul-2024 06:38 | 425 | ||
install-out.txt | 17-Jul-2024 06:38 | 1.3K | ||
install-summary.dcf | 17-Jul-2024 06:38 | 264 | ||