Back to Multiple platform build/check report for BioC 3.19:   simplified   long
A[B]CDEFGHIJKLMNOPQRSTUVWXYZ

This page was generated on 2024-07-19 17:36 -0400 (Fri, 19 Jul 2024).

HostnameOSArch (*)R versionInstalled pkgs
nebbiolo1Linux (Ubuntu 22.04.3 LTS)x86_644.4.1 (2024-06-14) -- "Race for Your Life" 4742
palomino7Windows Server 2022 Datacenterx644.4.1 (2024-06-14 ucrt) -- "Race for Your Life" 4484
merida1macOS 12.7.5 Montereyx86_644.4.1 (2024-06-14) -- "Race for Your Life" 4513
kjohnson1macOS 13.6.6 Venturaarm644.4.1 (2024-06-14) -- "Race for Your Life" 4462
Click on any hostname to see more info about the system (e.g. compilers)      (*) as reported by 'uname -p', except on Windows and Mac OS X

All results for package biomaRt


To the developers/maintainers of the biomaRt package:
- Allow up to 24 hours (and sometimes 48 hours) for your latest push to git@git.bioconductor.org:packages/biomaRt.git to reflect on this report. See Troubleshooting Build Report for more information.
- Use the following Renviron settings to reproduce errors and warnings.
- If 'R CMD check' started to fail recently on the Linux builder(s) over a missing dependency, add the missing dependency to 'Suggests:' in your DESCRIPTION file. See Renviron.bioc for more information.

raw results

Package 209/2300HostnameOS / ArchINSTALLBUILDCHECKBUILD BIN
biomaRt 2.60.1  (landing page)
Mike Smith
Snapshot Date: 2024-07-17 14:00 -0400 (Wed, 17 Jul 2024)
git_url: https://git.bioconductor.org/packages/biomaRt
git_branch: RELEASE_3_19
git_last_commit: af13538
git_last_commit_date: 2024-06-24 05:07:55 -0400 (Mon, 24 Jun 2024)
nebbiolo1Linux (Ubuntu 22.04.3 LTS) / x86_64  OK    OK    OK  UNNEEDED, same version is already published
palomino7Windows Server 2022 Datacenter / x64  OK    OK    OK    OK  
merida1macOS 12.7.5 Monterey / x86_64  OK    OK    OK    OK  UNNEEDED, same version is already published
kjohnson1macOS 13.6.6 Ventura / arm64  OK    OK    OK    OK  UNNEEDED, same version is already published



Results for Bioconductor software packages that depend directly on package biomaRt

QUICK STATSOS / ArchINSTALLBUILDCHECKBUILD BIN
nebbiolo1Linux (Ubuntu 22.04.3 LTS) / x86_64
0279
0675
041259
palomino7Windows Server 2022 Datacenter / x64
0279
0576
041557
0076
merida1macOS 12.7.5 Monterey / x86_64
0279
1575
231357
0075
kjohnson1macOS 13.6.6 Ventura / arm64
0279
1773
041257
0038
Package 1/81HostnameOS / ArchINSTALLBUILDCHECKBUILD BIN
BadRegionFinder 1.32.0  (landing page)
Sarah Sandmann
git_last_commit: dd70f4c
git_last_commit_date: 2024-04-30 10:49:59 -0400
nebbiolo1Linux (Ubuntu 22.04.3 LTS) / x86_64  OK    OK    OK  UNNEEDED, same version is already published
palomino7Windows Server 2022 Datacenter / x64  OK    OK    OK    OK  
merida1macOS 12.7.5 Monterey / x86_64  OK    OK    OK    OK  UNNEEDED, same version is already published
kjohnson1macOS 13.6.6 Ventura / arm64  OK    OK    OK    OK  UNNEEDED, same version is already published
Package 2/81HostnameOS / ArchINSTALLBUILDCHECKBUILD BIN
BgeeCall 1.20.1  (landing page)
Julien Wollbrett
git_last_commit: 77e8402
git_last_commit_date: 2024-07-12 06:53:37 -0400
nebbiolo1Linux (Ubuntu 22.04.3 LTS) / x86_64  OK    ERROR  skipped
palomino7Windows Server 2022 Datacenter / x64  OK    OK    OK    OK  
merida1macOS 12.7.5 Monterey / x86_64  OK    OK    OK    OK  UNNEEDED, same version is already published
kjohnson1macOS 13.6.6 Ventura / arm64  OK    OK    OK    OK  UNNEEDED, same version is already published
Package 3/81HostnameOS / ArchINSTALLBUILDCHECKBUILD BIN
branchpointer 1.30.0  (landing page)
Beth Signal
git_last_commit: 5363c96
git_last_commit_date: 2024-04-30 10:56:51 -0400
nebbiolo1Linux (Ubuntu 22.04.3 LTS) / x86_64  OK    OK    OK  UNNEEDED, same version is already published
palomino7Windows Server 2022 Datacenter / x64  OK    OK    OK    OK  
merida1macOS 12.7.5 Monterey / x86_64  OK    OK    OK    OK  UNNEEDED, same version is already published
kjohnson1macOS 13.6.6 Ventura / arm64  OK    OK    OK    OK  UNNEEDED, same version is already published
Package 4/81HostnameOS / ArchINSTALLBUILDCHECKBUILD BIN
BUSpaRse 1.18.0  (landing page)
Lambda Moses
git_last_commit: 3d24c55
git_last_commit_date: 2024-04-30 11:16:44 -0400
nebbiolo1Linux (Ubuntu 22.04.3 LTS) / x86_64  OK    OK    ERROR  
palomino7Windows Server 2022 Datacenter / x64  OK    OK    ERROR    OK  
merida1macOS 12.7.5 Monterey / x86_64  OK    OK    ERROR    OK  
kjohnson1macOS 13.6.6 Ventura / arm64  OK    OK    ERROR    OK  
Package 5/81HostnameOS / ArchINSTALLBUILDCHECKBUILD BIN
ChIPpeakAnno 3.38.1  (landing page)
Jianhong Ou
git_last_commit: 6b07376
git_last_commit_date: 2024-07-03 13:41:54 -0400
nebbiolo1Linux (Ubuntu 22.04.3 LTS) / x86_64  OK    OK    OK  UNNEEDED, same version is already published
palomino7Windows Server 2022 Datacenter / x64  OK    OK    OK    OK  
merida1macOS 12.7.5 Monterey / x86_64  OK    TIMEOUT  skippedskipped
kjohnson1macOS 13.6.6 Ventura / arm64  OK    OK    OK    OK  UNNEEDED, same version is already published
Package 6/81HostnameOS / ArchINSTALLBUILDCHECKBUILD BIN
chromPlot 1.32.0  (landing page)
Karen Y. Orostica
git_last_commit: 270638d
git_last_commit_date: 2024-04-30 10:48:29 -0400
nebbiolo1Linux (Ubuntu 22.04.3 LTS) / x86_64  OK    OK    OK  UNNEEDED, same version is already published
palomino7Windows Server 2022 Datacenter / x64  OK    OK    WARNINGS    OK  
merida1macOS 12.7.5 Monterey / x86_64  OK    OK    OK    OK  UNNEEDED, same version is already published
kjohnson1macOS 13.6.6 Ventura / arm64  OK    OK    OK    OK  UNNEEDED, same version is already published
Package 7/81HostnameOS / ArchINSTALLBUILDCHECKBUILD BIN
CHRONOS 1.32.0  (landing page)
Panos Balomenos
git_last_commit: f074b18
git_last_commit_date: 2024-04-30 10:50:52 -0400
nebbiolo1Linux (Ubuntu 22.04.3 LTS) / x86_64  OK    OK    OK  UNNEEDED, same version is already published
palomino7Windows Server 2022 Datacenter / x64  OK    OK    OK    OK  
merida1macOS 12.7.5 Monterey / x86_64  OK    OK    OK    OK  UNNEEDED, same version is already published
kjohnson1macOS 13.6.6 Ventura / arm64  OK    TIMEOUT  skippedskipped
Package 8/81HostnameOS / ArchINSTALLBUILDCHECKBUILD BIN
coMET 1.36.0  (landing page)
Tiphaine Martin
git_last_commit: 6d5fd0d
git_last_commit_date: 2024-04-30 11:45:58 -0400
nebbiolo1Linux (Ubuntu 22.04.3 LTS) / x86_64  OK    OK    ERROR  
palomino7Windows Server 2022 Datacenter / x64  OK    OK    ERROR    OK  
merida1macOS 12.7.5 Monterey / x86_64  OK    OK    WARNINGS    OK  UNNEEDED, same version is already published
kjohnson1macOS 13.6.6 Ventura / arm64  OK    OK    WARNINGS    OK  UNNEEDED, same version is already published
Package 9/81HostnameOS / ArchINSTALLBUILDCHECKBUILD BIN
CoSIA 1.4.0  (landing page)
Amanda D. Clark
git_last_commit: 1432e30
git_last_commit_date: 2024-04-30 11:49:29 -0400
nebbiolo1Linux (Ubuntu 22.04.3 LTS) / x86_64  OK    ERROR  skipped
palomino7Windows Server 2022 Datacenter / x64  OK    ERROR  skippedskipped
merida1macOS 12.7.5 Monterey / x86_64  OK    ERROR  skippedskipped
kjohnson1macOS 13.6.6 Ventura / arm64  OK    ERROR  skippedskipped
Package 10/81HostnameOS / ArchINSTALLBUILDCHECKBUILD BIN
customProDB 1.44.0  (landing page)
Xiaojing Wang
git_last_commit: 4cc0d41
git_last_commit_date: 2024-04-30 10:32:13 -0400
nebbiolo1Linux (Ubuntu 22.04.3 LTS) / x86_64  OK    OK    WARNINGS  UNNEEDED, same version is already published
palomino7Windows Server 2022 Datacenter / x64  OK    OK    WARNINGS    OK  
merida1macOS 12.7.5 Monterey / x86_64  OK    OK    WARNINGS    OK  UNNEEDED, same version is already published
kjohnson1macOS 13.6.6 Ventura / arm64  OK    OK    WARNINGS    OK  UNNEEDED, same version is already published
Package 11/81HostnameOS / ArchINSTALLBUILDCHECKBUILD BIN
dagLogo 1.42.0  (landing page)
Jianhong Ou
git_last_commit: 9abaa82
git_last_commit_date: 2024-04-30 10:33:47 -0400
nebbiolo1Linux (Ubuntu 22.04.3 LTS) / x86_64  OK    OK    OK  UNNEEDED, same version is already published
palomino7Windows Server 2022 Datacenter / x64  OK    OK    OK    OK  
merida1macOS 12.7.5 Monterey / x86_64  OK    OK    OK    OK  UNNEEDED, same version is already published
kjohnson1macOS 13.6.6 Ventura / arm64  OK    OK    OK    OK  UNNEEDED, same version is already published
Package 12/81HostnameOS / ArchINSTALLBUILDCHECKBUILD BIN
DEXSeq 1.50.0  (landing page)
Alejandro Reyes
git_last_commit: d831c0f
git_last_commit_date: 2024-04-30 10:24:41 -0400
nebbiolo1Linux (Ubuntu 22.04.3 LTS) / x86_64  OK    OK    OK  UNNEEDED, same version is already published
palomino7Windows Server 2022 Datacenter / x64  OK    OK    OK    OK  
merida1macOS 12.7.5 Monterey / x86_64  OK    OK    OK    OK  UNNEEDED, same version is already published
kjohnson1macOS 13.6.6 Ventura / arm64  OK    OK    OK    OK  UNNEEDED, same version is already published
Package 13/81HostnameOS / ArchINSTALLBUILDCHECKBUILD BIN
DMRcate 3.0.5  (landing page)
Tim Peters
git_last_commit: b6a45cd
git_last_commit_date: 2024-07-09 03:38:13 -0400
nebbiolo1Linux (Ubuntu 22.04.3 LTS) / x86_64  OK    OK    OK  UNNEEDED, same version is already published
palomino7Windows Server 2022 Datacenter / x64  OK    OK    OK    OK  
merida1macOS 12.7.5 Monterey / x86_64  OK    OK    ERROR    OK  
kjohnson1macOS 13.6.6 Ventura / arm64  OK    OK    OK    OK  UNNEEDED, same version is already published
Package 14/81HostnameOS / ArchINSTALLBUILDCHECKBUILD BIN
DominoEffect 1.24.0  (landing page)
Marija Buljan
git_last_commit: 200d41e
git_last_commit_date: 2024-04-30 11:04:08 -0400
nebbiolo1Linux (Ubuntu 22.04.3 LTS) / x86_64  OK    OK    OK  UNNEEDED, same version is already published
palomino7Windows Server 2022 Datacenter / x64  OK    OK    OK    OK  
merida1macOS 12.7.5 Monterey / x86_64  OK    OK    OK    OK  UNNEEDED, same version is already published
kjohnson1macOS 13.6.6 Ventura / arm64  OK    OK    OK    OK  UNNEEDED, same version is already published
Package 15/81HostnameOS / ArchINSTALLBUILDCHECKBUILD BIN
drugTargetInteractions 1.12.0  (landing page)
Thomas Girke
git_last_commit: d647cee
git_last_commit_date: 2024-04-30 11:32:34 -0400
nebbiolo1Linux (Ubuntu 22.04.3 LTS) / x86_64  OK    OK    OK  UNNEEDED, same version is already published
palomino7Windows Server 2022 Datacenter / x64  OK    OK    OK    OK  
merida1macOS 12.7.5 Monterey / x86_64  OK    OK    OK    OK  UNNEEDED, same version is already published
kjohnson1macOS 13.6.6 Ventura / arm64  OK    OK    OK    OK  UNNEEDED, same version is already published
Package 16/81HostnameOS / ArchINSTALLBUILDCHECKBUILD BIN
DrugVsDisease 2.46.0  (landing page)
j. Saez-Rodriguez
git_last_commit: e8ea547
git_last_commit_date: 2024-04-30 10:30:19 -0400
nebbiolo1Linux (Ubuntu 22.04.3 LTS) / x86_64  OK    OK    OK  UNNEEDED, same version is already published
palomino7Windows Server 2022 Datacenter / x64  OK    OK    OK    OK  
merida1macOS 12.7.5 Monterey / x86_64  OK    OK    OK    OK  UNNEEDED, same version is already published
kjohnson1macOS 13.6.6 Ventura / arm64  OK    OK    ERROR    OK  
Package 17/81HostnameOS / ArchINSTALLBUILDCHECKBUILD BIN
easyRNASeq 2.40.0  (landing page)
Nicolas Delhomme
git_last_commit: 3956fcf
git_last_commit_date: 2024-04-30 10:26:40 -0400
nebbiolo1Linux (Ubuntu 22.04.3 LTS) / x86_64  ERROR    ERROR  skipped
palomino7Windows Server 2022 Datacenter / x64  ERROR    ERROR  skippedskipped
merida1macOS 12.7.5 Monterey / x86_64  ERROR    ERROR  skippedskipped
kjohnson1macOS 13.6.6 Ventura / arm64  ERROR    ERROR  skippedskipped
Package 18/81HostnameOS / ArchINSTALLBUILDCHECKBUILD BIN
EDASeq 2.38.0  (landing page)
Davide Risso
git_last_commit: aab2daa
git_last_commit_date: 2024-04-30 10:25:33 -0400
nebbiolo1Linux (Ubuntu 22.04.3 LTS) / x86_64  OK    OK    OK  UNNEEDED, same version is already published
palomino7Windows Server 2022 Datacenter / x64  OK    OK    OK    OK  
merida1macOS 12.7.5 Monterey / x86_64  OK    OK    OK    OK  UNNEEDED, same version is already published
kjohnson1macOS 13.6.6 Ventura / arm64  OK    OK    OK    OK  UNNEEDED, same version is already published
Package 19/81HostnameOS / ArchINSTALLBUILDCHECKBUILD BIN
ELMER 2.28.0  (landing page)
Tiago Chedraoui Silva
git_last_commit: dd7f626
git_last_commit_date: 2024-04-30 10:44:07 -0400
nebbiolo1Linux (Ubuntu 22.04.3 LTS) / x86_64  OK    OK    OK  UNNEEDED, same version is already published
palomino7Windows Server 2022 Datacenter / x64  OK    OK    OK    OK  
merida1macOS 12.7.5 Monterey / x86_64  OK    OK    OK    OK  UNNEEDED, same version is already published
kjohnson1macOS 13.6.6 Ventura / arm64  OK    OK    OK    OK  UNNEEDED, same version is already published
Package 20/81HostnameOS / ArchINSTALLBUILDCHECKBUILD BIN
EpiMix 1.6.1  (landing page)
Yuanning Zheng
git_last_commit: 0e85cbb
git_last_commit_date: 2024-05-01 12:48:30 -0400
nebbiolo1Linux (Ubuntu 22.04.3 LTS) / x86_64  OK    OK    OK  UNNEEDED, same version is already published
palomino7Windows Server 2022 Datacenter / x64  OK    OK    OK    OK  
merida1macOS 12.7.5 Monterey / x86_64  OK    OK    OK    OK  UNNEEDED, same version is already published
kjohnson1macOS 13.6.6 Ventura / arm64  OK    OK    OK    OK  UNNEEDED, same version is already published
Package 21/81HostnameOS / ArchINSTALLBUILDCHECKBUILD BIN
epimutacions 1.8.0  (landing page)
Dolors Pelegri-Siso
git_last_commit: 26ee4ca
git_last_commit_date: 2024-04-30 11:41:56 -0400
nebbiolo1Linux (Ubuntu 22.04.3 LTS) / x86_64  OK    OK    OK  UNNEEDED, same version is already published
palomino7Windows Server 2022 Datacenter / x64  OK    OK    OK    OK  
merida1macOS 12.7.5 Monterey / x86_64  OK    OK    OK    OK  UNNEEDED, same version is already published
kjohnson1macOS 13.6.6 Ventura / arm64  OK    OK    OK    OK  UNNEEDED, same version is already published
Package 22/81HostnameOS / ArchINSTALLBUILDCHECKBUILD BIN
FRASER 2.0.0  (landing page)
Christian Mertes
git_last_commit: 43578dd
git_last_commit_date: 2024-04-30 11:23:25 -0400
nebbiolo1Linux (Ubuntu 22.04.3 LTS) / x86_64  OK    OK    OK  UNNEEDED, same version is already published
palomino7Windows Server 2022 Datacenter / x64  OK    OK    OK    OK  
merida1macOS 12.7.5 Monterey / x86_64  OK    OK    TIMEOUT    OK  
kjohnson1macOS 13.6.6 Ventura / arm64  OK    OK    OK    OK  UNNEEDED, same version is already published
Package 23/81HostnameOS / ArchINSTALLBUILDCHECKBUILD BIN
GDCRNATools 1.24.0  (landing page)
Ruidong Li
git_last_commit: 4b2b185
git_last_commit_date: 2024-04-30 11:03:29 -0400
nebbiolo1Linux (Ubuntu 22.04.3 LTS) / x86_64  OK    OK    OK  UNNEEDED, same version is already published
palomino7Windows Server 2022 Datacenter / x64  OK    OK    OK    OK  
merida1macOS 12.7.5 Monterey / x86_64  OK    OK    OK    OK  UNNEEDED, same version is already published
kjohnson1macOS 13.6.6 Ventura / arm64  OK    OK    OK    OK  UNNEEDED, same version is already published
Package 24/81HostnameOS / ArchINSTALLBUILDCHECKBUILD BIN
genefu 2.36.0  (landing page)
Benjamin Haibe-Kains
git_last_commit: a82c8f1
git_last_commit_date: 2024-04-30 10:24:01 -0400
nebbiolo1Linux (Ubuntu 22.04.3 LTS) / x86_64  ERROR    ERROR  skipped
palomino7Windows Server 2022 Datacenter / x64  ERROR    ERROR  skippedskipped
merida1macOS 12.7.5 Monterey / x86_64  ERROR    ERROR  skippedskipped
kjohnson1macOS 13.6.6 Ventura / arm64  ERROR    ERROR  skippedskipped
Package 25/81HostnameOS / ArchINSTALLBUILDCHECKBUILD BIN
GenomicOZone 1.18.0  (landing page)
Hua Zhong, Mingzhou Song
git_last_commit: f592f0e
git_last_commit_date: 2024-04-30 11:16:30 -0400
nebbiolo1Linux (Ubuntu 22.04.3 LTS) / x86_64  OK    OK    OK  UNNEEDED, same version is already published
palomino7Windows Server 2022 Datacenter / x64  OK    OK    OK    OK  
merida1macOS 12.7.5 Monterey / x86_64  OK    OK    OK    OK  UNNEEDED, same version is already published
kjohnson1macOS 13.6.6 Ventura / arm64  OK    OK    OK    OK  UNNEEDED, same version is already published
Package 26/81HostnameOS / ArchINSTALLBUILDCHECKBUILD BIN
GenVisR 1.36.0  (landing page)
Zachary Skidmore
git_last_commit: c0768ff
git_last_commit_date: 2024-04-30 10:47:51 -0400
nebbiolo1Linux (Ubuntu 22.04.3 LTS) / x86_64  OK    OK    OK  UNNEEDED, same version is already published
palomino7Windows Server 2022 Datacenter / x64  OK    OK    OK    OK  
merida1macOS 12.7.5 Monterey / x86_64  OK    OK    OK    OK  UNNEEDED, same version is already published
kjohnson1macOS 13.6.6 Ventura / arm64  OK    OK    OK    OK  UNNEEDED, same version is already published
Package 27/81HostnameOS / ArchINSTALLBUILDCHECKBUILD BIN
gespeR 1.36.0  (landing page)
Fabian Schmich
git_last_commit: a1e0cc3
git_last_commit_date: 2024-04-30 10:41:08 -0400
nebbiolo1Linux (Ubuntu 22.04.3 LTS) / x86_64  OK    ERROR  skipped
palomino7Windows Server 2022 Datacenter / x64  OK    OK    WARNINGS    OK  
merida1macOS 12.7.5 Monterey / x86_64  OK    ERROR  skippedskipped
kjohnson1macOS 13.6.6 Ventura / arm64  OK    ERROR  skippedskipped
Package 28/81HostnameOS / ArchINSTALLBUILDCHECKBUILD BIN
gINTomics 1.0.0  (landing page)
Angelo Velle
git_last_commit: 6525a11
git_last_commit_date: 2024-04-30 11:56:24 -0400
nebbiolo1Linux (Ubuntu 22.04.3 LTS) / x86_64  OK    OK    OK  UNNEEDED, same version is already published
palomino7Windows Server 2022 Datacenter / x64  OK    OK    OK    OK  
merida1macOS 12.7.5 Monterey / x86_64  OK    OK    OK    OK  UNNEEDED, same version is already published
kjohnson1macOS 13.6.6 Ventura / arm64  OK    OK    OK    OK  UNNEEDED, same version is already published
Package 29/81HostnameOS / ArchINSTALLBUILDCHECKBUILD BIN
glmSparseNet 1.22.0  (landing page)
André Veríssimo
git_last_commit: 7b32a0f
git_last_commit_date: 2024-04-30 11:09:25 -0400
nebbiolo1Linux (Ubuntu 22.04.3 LTS) / x86_64  OK    OK    OK  UNNEEDED, same version is already published
palomino7Windows Server 2022 Datacenter / x64  OK    OK    OK    OK  
merida1macOS 12.7.5 Monterey / x86_64  OK    OK    OK    OK  UNNEEDED, same version is already published
kjohnson1macOS 13.6.6 Ventura / arm64  OK    OK    OK    OK  UNNEEDED, same version is already published
Package 30/81HostnameOS / ArchINSTALLBUILDCHECKBUILD BIN
GOexpress 1.38.0  (landing page)
Kevin Rue-Albrecht
git_last_commit: 9a082a9
git_last_commit_date: 2024-04-30 10:38:52 -0400
nebbiolo1Linux (Ubuntu 22.04.3 LTS) / x86_64  OK    OK    OK  UNNEEDED, same version is already published
palomino7Windows Server 2022 Datacenter / x64  OK    OK    OK    OK  
merida1macOS 12.7.5 Monterey / x86_64  OK    OK    OK    OK  UNNEEDED, same version is already published
kjohnson1macOS 13.6.6 Ventura / arm64  OK    OK    OK    OK  UNNEEDED, same version is already published
Package 31/81HostnameOS / ArchINSTALLBUILDCHECKBUILD BIN
goSTAG 1.28.0  (landing page)
Brian D. Bennett
git_last_commit: 2aa1df4
git_last_commit_date: 2024-04-30 10:56:00 -0400
nebbiolo1Linux (Ubuntu 22.04.3 LTS) / x86_64  OK    OK    OK  UNNEEDED, same version is already published
palomino7Windows Server 2022 Datacenter / x64  OK    OK    OK    OK  
merida1macOS 12.7.5 Monterey / x86_64  OK    OK    OK    OK  UNNEEDED, same version is already published
kjohnson1macOS 13.6.6 Ventura / arm64  OK    OK    OK    OK  UNNEEDED, same version is already published
Package 32/81HostnameOS / ArchINSTALLBUILDCHECKBUILD BIN
GRaNIE 1.8.0  (landing page)
Christian Arnold
git_last_commit: 47f7e04
git_last_commit_date: 2024-04-30 11:42:38 -0400
nebbiolo1Linux (Ubuntu 22.04.3 LTS) / x86_64  OK    OK    WARNINGS  UNNEEDED, same version is already published
palomino7Windows Server 2022 Datacenter / x64  OK    OK    WARNINGS    OK  
merida1macOS 12.7.5 Monterey / x86_64  OK    OK    WARNINGS    OK  UNNEEDED, same version is already published
kjohnson1macOS 13.6.6 Ventura / arm64  OK    OK    WARNINGS    OK  UNNEEDED, same version is already published
Package 33/81HostnameOS / ArchINSTALLBUILDCHECKBUILD BIN
Gviz 1.48.0  (landing page)
Robert Ivanek
git_last_commit: 2be307f
git_last_commit_date: 2024-04-30 10:26:57 -0400
nebbiolo1Linux (Ubuntu 22.04.3 LTS) / x86_64  OK    OK    OK  UNNEEDED, same version is already published
palomino7Windows Server 2022 Datacenter / x64  OK    OK    OK    OK  
merida1macOS 12.7.5 Monterey / x86_64  OK    OK    OK    OK  UNNEEDED, same version is already published
kjohnson1macOS 13.6.6 Ventura / arm64  OK    OK    OK    OK  UNNEEDED, same version is already published
Package 34/81HostnameOS / ArchINSTALLBUILDCHECKBUILD BIN
hermes 1.8.1  (landing page)
Daniel Sabanés Bové
git_last_commit: ec4e6a0
git_last_commit_date: 2024-06-27 10:04:38 -0400
nebbiolo1Linux (Ubuntu 22.04.3 LTS) / x86_64  OK    OK    OK  UNNEEDED, same version is already published
palomino7Windows Server 2022 Datacenter / x64  OK    OK    OK    OK  
merida1macOS 12.7.5 Monterey / x86_64  OK    OK    OK    OK  UNNEEDED, same version is already published
kjohnson1macOS 13.6.6 Ventura / arm64  OK    OK    OK    OK  UNNEEDED, same version is already published
Package 35/81HostnameOS / ArchINSTALLBUILDCHECKBUILD BIN
InterCellar 2.10.0  (landing page)
Marta Interlandi
git_last_commit: d2ba5c4
git_last_commit_date: 2024-04-30 11:32:05 -0400
nebbiolo1Linux (Ubuntu 22.04.3 LTS) / x86_64  OK    OK    OK  UNNEEDED, same version is already published
palomino7Windows Server 2022 Datacenter / x64  OK    OK    OK    OK  
merida1macOS 12.7.5 Monterey / x86_64  OK    OK    OK    OK  UNNEEDED, same version is already published
kjohnson1macOS 13.6.6 Ventura / arm64  OK    OK    OK    OK  UNNEEDED, same version is already published
Package 36/81HostnameOS / ArchINSTALLBUILDCHECKBUILD BIN
isobar 1.50.0  (landing page)
Florian P Breitwieser
git_last_commit: 2f05a5d
git_last_commit_date: 2024-04-30 10:26:06 -0400
nebbiolo1Linux (Ubuntu 22.04.3 LTS) / x86_64  OK    OK    WARNINGS  UNNEEDED, same version is already published
palomino7Windows Server 2022 Datacenter / x64  OK    OK    WARNINGS    OK  
merida1macOS 12.7.5 Monterey / x86_64  OK    OK    WARNINGS    OK  UNNEEDED, same version is already published
kjohnson1macOS 13.6.6 Ventura / arm64  OK    OK    WARNINGS    OK  UNNEEDED, same version is already published
Package 37/81HostnameOS / ArchINSTALLBUILDCHECKBUILD BIN
LACE 2.8.0  (landing page)
Davide Maspero
git_last_commit: cc29af9
git_last_commit_date: 2024-04-30 11:24:05 -0400
nebbiolo1Linux (Ubuntu 22.04.3 LTS) / x86_64  OK    OK    OK  UNNEEDED, same version is already published
palomino7Windows Server 2022 Datacenter / x64  OK    OK    OK    OK  
merida1macOS 12.7.5 Monterey / x86_64  OK    OK    OK    OK  UNNEEDED, same version is already published
kjohnson1macOS 13.6.6 Ventura / arm64  OK    OK    OK    OK  UNNEEDED, same version is already published
Package 38/81HostnameOS / ArchINSTALLBUILDCHECKBUILD BIN
mCSEA 1.24.0  (landing page)
Jordi Martorell-Marugán
git_last_commit: 419e949
git_last_commit_date: 2024-04-30 11:03:23 -0400
nebbiolo1Linux (Ubuntu 22.04.3 LTS) / x86_64  OK    OK    OK  UNNEEDED, same version is already published
palomino7Windows Server 2022 Datacenter / x64  OK    OK    OK    OK  
merida1macOS 12.7.5 Monterey / x86_64  OK    OK    OK    OK  UNNEEDED, same version is already published
kjohnson1macOS 13.6.6 Ventura / arm64  OK    OK    OK    OK  UNNEEDED, same version is already published
Package 39/81HostnameOS / ArchINSTALLBUILDCHECKBUILD BIN
MEDIPS 1.56.0  (landing page)
Lukas Chavez
git_last_commit: 8bbaaa2
git_last_commit_date: 2024-04-30 10:23:03 -0400
nebbiolo1Linux (Ubuntu 22.04.3 LTS) / x86_64  OK    OK    OK  UNNEEDED, same version is already published
palomino7Windows Server 2022 Datacenter / x64  OK    OK    OK    OK  
merida1macOS 12.7.5 Monterey / x86_64  OK    OK    OK    OK  UNNEEDED, same version is already published
kjohnson1macOS 13.6.6 Ventura / arm64  OK    OK    OK    OK  UNNEEDED, same version is already published
Package 40/81HostnameOS / ArchINSTALLBUILDCHECKBUILD BIN
MetaboSignal 1.34.0  (landing page)
Andrea Rodriguez-Martinez
git_last_commit: af68698
git_last_commit_date: 2024-04-30 10:53:24 -0400
nebbiolo1Linux (Ubuntu 22.04.3 LTS) / x86_64  OK    OK    OK  UNNEEDED, same version is already published
palomino7Windows Server 2022 Datacenter / x64  OK    OK    OK    OK  
merida1macOS 12.7.5 Monterey / x86_64  OK    OK    OK    OK  UNNEEDED, same version is already published
kjohnson1macOS 13.6.6 Ventura / arm64  OK    OK    OK    OK  UNNEEDED, same version is already published
Package 41/81HostnameOS / ArchINSTALLBUILDCHECKBUILD BIN
metaseqR2 1.16.0  (landing page)
Panagiotis Moulos
git_last_commit: 355b403
git_last_commit_date: 2024-04-30 11:23:52 -0400
nebbiolo1Linux (Ubuntu 22.04.3 LTS) / x86_64  OK    OK    OK  UNNEEDED, same version is already published
palomino7Windows Server 2022 Datacenter / x64  OK    OK    OK    OK  
merida1macOS 12.7.5 Monterey / x86_64  OK    OK    OK    OK  UNNEEDED, same version is already published
kjohnson1macOS 13.6.6 Ventura / arm64  OK    OK    OK    OK  UNNEEDED, same version is already published
Package 42/81HostnameOS / ArchINSTALLBUILDCHECKBUILD BIN
MGFR 1.30.0  (landing page)
Khadija El Amrani
git_last_commit: c86bb91
git_last_commit_date: 2024-04-30 10:52:08 -0400
nebbiolo1Linux (Ubuntu 22.04.3 LTS) / x86_64  OK    OK    OK  UNNEEDED, same version is already published
palomino7Windows Server 2022 Datacenter / x64  OK    OK    OK    OK  
merida1macOS 12.7.5 Monterey / x86_64  OK    OK    OK    OK  UNNEEDED, same version is already published
kjohnson1macOS 13.6.6 Ventura / arm64  OK    OK    OK    OK  UNNEEDED, same version is already published
Package 43/81HostnameOS / ArchINSTALLBUILDCHECKBUILD BIN
MineICA 1.44.0  (landing page)
Anne Biton
git_last_commit: eae2b7a
git_last_commit_date: 2024-04-30 10:30:34 -0400
nebbiolo1Linux (Ubuntu 22.04.3 LTS) / x86_64  OK    OK    WARNINGS  UNNEEDED, same version is already published
palomino7Windows Server 2022 Datacenter / x64  OK    OK    WARNINGS    OK  
merida1macOS 12.7.5 Monterey / x86_64  OK    OK    WARNINGS    OK  UNNEEDED, same version is already published
kjohnson1macOS 13.6.6 Ventura / arm64  OK    OK    WARNINGS    OK  UNNEEDED, same version is already published
Package 44/81HostnameOS / ArchINSTALLBUILDCHECKBUILD BIN
MouseFM 1.14.0  (landing page)
Matthias Munz
git_last_commit: ad0f9eb
git_last_commit_date: 2024-04-30 11:39:18 -0400
nebbiolo1Linux (Ubuntu 22.04.3 LTS) / x86_64  OK    ERROR  skipped
palomino7Windows Server 2022 Datacenter / x64  OK    ERROR  skippedskipped
merida1macOS 12.7.5 Monterey / x86_64  OK    ERROR  skippedskipped
kjohnson1macOS 13.6.6 Ventura / arm64  OK    ERROR  skippedskipped
Package 45/81HostnameOS / ArchINSTALLBUILDCHECKBUILD BIN
NetSAM 1.44.0  (landing page)
Zhiao Shi
git_last_commit: fd6bcba
git_last_commit_date: 2024-04-30 10:32:16 -0400
nebbiolo1Linux (Ubuntu 22.04.3 LTS) / x86_64  OK    OK    OK  UNNEEDED, same version is already published
palomino7Windows Server 2022 Datacenter / x64  OK    OK    OK    OK  
merida1macOS 12.7.5 Monterey / x86_64  OK    OK    TIMEOUT    OK  
kjohnson1macOS 13.6.6 Ventura / arm64  OK    OK    OK    NA  
Package 46/81HostnameOS / ArchINSTALLBUILDCHECKBUILD BIN
NoRCE 1.16.0  (landing page)
Gulden Olgun
git_last_commit: 9e07bb2
git_last_commit_date: 2024-04-30 11:21:52 -0400
nebbiolo1Linux (Ubuntu 22.04.3 LTS) / x86_64  OK    OK    OK  UNNEEDED, same version is already published
palomino7Windows Server 2022 Datacenter / x64  OK    OK    OK    OK  
merida1macOS 12.7.5 Monterey / x86_64  OK    OK    OK    OK  UNNEEDED, same version is already published
kjohnson1macOS 13.6.6 Ventura / arm64  OK    OK    OK    NA  
Package 47/81HostnameOS / ArchINSTALLBUILDCHECKBUILD BIN
OncoScore 1.32.0  (landing page)
Luca De Sano
git_last_commit: a36f517
git_last_commit_date: 2024-04-30 10:49:32 -0400
nebbiolo1Linux (Ubuntu 22.04.3 LTS) / x86_64  OK    OK    OK  UNNEEDED, same version is already published
palomino7Windows Server 2022 Datacenter / x64  OK    OK    OK    OK  
merida1macOS 12.7.5 Monterey / x86_64  OK    OK    OK    OK  UNNEEDED, same version is already published
kjohnson1macOS 13.6.6 Ventura / arm64  OK    OK    OK    NA  
Package 48/81HostnameOS / ArchINSTALLBUILDCHECKBUILD BIN
oposSOM 2.22.0  (landing page)
Henry Loeffler-Wirth
git_last_commit: 5cc45bb
git_last_commit_date: 2024-04-30 10:37:16 -0400
nebbiolo1Linux (Ubuntu 22.04.3 LTS) / x86_64  OK    OK    WARNINGS  UNNEEDED, same version is already published
palomino7Windows Server 2022 Datacenter / x64  OK    OK    WARNINGS    OK  
merida1macOS 12.7.5 Monterey / x86_64  OK    OK    WARNINGS    OK  UNNEEDED, same version is already published
kjohnson1macOS 13.6.6 Ventura / arm64  OK    OK    WARNINGS    NA  
Package 49/81HostnameOS / ArchINSTALLBUILDCHECKBUILD BIN
ORFik 1.24.0  (landing page)
Haakon Tjeldnes
git_last_commit: d2ff2c0
git_last_commit_date: 2024-04-30 11:06:37 -0400
nebbiolo1Linux (Ubuntu 22.04.3 LTS) / x86_64  OK    OK    OK  UNNEEDED, same version is already published
palomino7Windows Server 2022 Datacenter / x64  OK    OK    OK    OK  
merida1macOS 12.7.5 Monterey / x86_64  OK    OK    OK    OK  UNNEEDED, same version is already published
kjohnson1macOS 13.6.6 Ventura / arm64  OK    OK    OK    NA  
Package 50/81HostnameOS / ArchINSTALLBUILDCHECKBUILD BIN
pcaExplorer 2.30.0  (landing page)
Federico Marini
git_last_commit: f513ba6
git_last_commit_date: 2024-04-30 10:50:20 -0400
nebbiolo1Linux (Ubuntu 22.04.3 LTS) / x86_64  OK    OK    OK  UNNEEDED, same version is already published
palomino7Windows Server 2022 Datacenter / x64  OK    OK    OK    OK  
merida1macOS 12.7.5 Monterey / x86_64  OK    OK    OK    OK  UNNEEDED, same version is already published
kjohnson1macOS 13.6.6 Ventura / arm64  OK    OK    OK    NA  
Package 51/81HostnameOS / ArchINSTALLBUILDCHECKBUILD BIN
phenoTest 1.52.0  (landing page)
Evarist Planet
git_last_commit: e009c83
git_last_commit_date: 2024-04-30 10:23:22 -0400
nebbiolo1Linux (Ubuntu 22.04.3 LTS) / x86_64  OK    OK    OK  UNNEEDED, same version is already published
palomino7Windows Server 2022 Datacenter / x64  OK    OK    OK    OK  
merida1macOS 12.7.5 Monterey / x86_64  OK    OK    OK    OK  UNNEEDED, same version is already published
kjohnson1macOS 13.6.6 Ventura / arm64  OK    OK    OK    NA  
Package 52/81HostnameOS / ArchINSTALLBUILDCHECKBUILD BIN
PPInfer 1.30.0  (landing page)
Dongmin Jung
git_last_commit: a745894
git_last_commit_date: 2024-04-30 10:57:58 -0400
nebbiolo1Linux (Ubuntu 22.04.3 LTS) / x86_64  OK    OK    OK  UNNEEDED, same version is already published
palomino7Windows Server 2022 Datacenter / x64  OK    OK    OK    OK  
merida1macOS 12.7.5 Monterey / x86_64  OK    OK    OK    OK  UNNEEDED, same version is already published
kjohnson1macOS 13.6.6 Ventura / arm64  OK    OK    OK    NA  
Package 53/81HostnameOS / ArchINSTALLBUILDCHECKBUILD BIN
pRoloc 1.44.1  (landing page)
Laurent Gatto
git_last_commit: 0802f73
git_last_commit_date: 2024-06-16 06:35:16 -0400
nebbiolo1Linux (Ubuntu 22.04.3 LTS) / x86_64  OK    OK    OK  UNNEEDED, same version is already published
palomino7Windows Server 2022 Datacenter / x64  OK    OK    OK    OK  
merida1macOS 12.7.5 Monterey / x86_64  OK    OK    OK    OK  UNNEEDED, same version is already published
kjohnson1macOS 13.6.6 Ventura / arm64  OK    OK    OK    NA  
Package 54/81HostnameOS / ArchINSTALLBUILDCHECKBUILD BIN
ProteoMM 1.22.0  (landing page)
Yuliya V Karpievitch
git_last_commit: 5abdb62
git_last_commit_date: 2024-04-30 11:10:25 -0400
nebbiolo1Linux (Ubuntu 22.04.3 LTS) / x86_64  OK    OK    OK  UNNEEDED, same version is already published
palomino7Windows Server 2022 Datacenter / x64  OK    OK    OK    OK  
merida1macOS 12.7.5 Monterey / x86_64  OK    OK    OK    OK  UNNEEDED, same version is already published
kjohnson1macOS 13.6.6 Ventura / arm64  OK    OK    OK    NA  
Package 55/81HostnameOS / ArchINSTALLBUILDCHECKBUILD BIN
psygenet2r 1.36.0  (landing page)
Alba Gutierrez-Sacristan
git_last_commit: 5526530
git_last_commit_date: 2024-04-30 10:49:00 -0400
nebbiolo1Linux (Ubuntu 22.04.3 LTS) / x86_64  OK    OK    OK  UNNEEDED, same version is already published
palomino7Windows Server 2022 Datacenter / x64  OK    OK    OK    OK  
merida1macOS 12.7.5 Monterey / x86_64  OK    OK    OK    OK  UNNEEDED, same version is already published
kjohnson1macOS 13.6.6 Ventura / arm64  OK    OK    OK    NA  
Package 56/81HostnameOS / ArchINSTALLBUILDCHECKBUILD BIN
pwOmics 1.36.0  (landing page)
Torsten Schoeps
git_last_commit: 24142f3
git_last_commit_date: 2024-04-30 10:43:41 -0400
nebbiolo1Linux (Ubuntu 22.04.3 LTS) / x86_64  OK    OK    WARNINGS  UNNEEDED, same version is already published
palomino7Windows Server 2022 Datacenter / x64  OK    OK    WARNINGS    OK  
merida1macOS 12.7.5 Monterey / x86_64  OK    OK    WARNINGS    OK  UNNEEDED, same version is already published
kjohnson1macOS 13.6.6 Ventura / arm64  OK    OK    WARNINGS    NA  
Package 57/81HostnameOS / ArchINSTALLBUILDCHECKBUILD BIN
R453Plus1Toolbox 1.54.0  (landing page)
Hans-Ulrich Klein
git_last_commit: 0e73194
git_last_commit_date: 2024-04-30 10:22:58 -0400
nebbiolo1Linux (Ubuntu 22.04.3 LTS) / x86_64  OK    OK    OK  UNNEEDED, same version is already published
palomino7Windows Server 2022 Datacenter / x64  OK    OK    OK    OK  
merida1macOS 12.7.5 Monterey / x86_64  OK    OK    OK    OK  UNNEEDED, same version is already published
kjohnson1macOS 13.6.6 Ventura / arm64  OK    OK    OK    NA  
Package 58/81HostnameOS / ArchINSTALLBUILDCHECKBUILD BIN
ramwas 1.28.0  (landing page)
Andrey A Shabalin
git_last_commit: 7c47450
git_last_commit_date: 2024-04-30 10:55:32 -0400
nebbiolo1Linux (Ubuntu 22.04.3 LTS) / x86_64  OK    OK    OK  UNNEEDED, same version is already published
palomino7Windows Server 2022 Datacenter / x64  OK    OK    OK    OK  
merida1macOS 12.7.5 Monterey / x86_64  OK    OK    OK    OK  UNNEEDED, same version is already published
kjohnson1macOS 13.6.6 Ventura / arm64  OK    OK    OK    NA  
Package 59/81HostnameOS / ArchINSTALLBUILDCHECKBUILD BIN
recoup 1.32.0  (landing page)
Panagiotis Moulos
git_last_commit: 8bb440b
git_last_commit_date: 2024-04-30 10:49:38 -0400
nebbiolo1Linux (Ubuntu 22.04.3 LTS) / x86_64  OK    OK    OK  UNNEEDED, same version is already published
palomino7Windows Server 2022 Datacenter / x64  OK    OK    OK    OK  
merida1macOS 12.7.5 Monterey / x86_64  OK    OK    OK    OK  UNNEEDED, same version is already published
kjohnson1macOS 13.6.6 Ventura / arm64  OK    OK    OK    NA  
Package 60/81HostnameOS / ArchINSTALLBUILDCHECKBUILD BIN
RepViz 1.20.0  (landing page)
Thomas Faux, Asta Laiho
git_last_commit: 7fd6b58
git_last_commit_date: 2024-04-30 11:14:07 -0400
nebbiolo1Linux (Ubuntu 22.04.3 LTS) / x86_64  OK    OK    WARNINGS  UNNEEDED, same version is already published
palomino7Windows Server 2022 Datacenter / x64  OK    OK    WARNINGS    OK  
merida1macOS 12.7.5 Monterey / x86_64  OK    OK    WARNINGS    OK  UNNEEDED, same version is already published
kjohnson1macOS 13.6.6 Ventura / arm64  OK    OK    WARNINGS    NA  
Package 61/81HostnameOS / ArchINSTALLBUILDCHECKBUILD BIN
rgsepd 1.36.0  (landing page)
Karl Stamm
git_last_commit: b6cffe9
git_last_commit_date: 2024-04-30 10:40:59 -0400
nebbiolo1Linux (Ubuntu 22.04.3 LTS) / x86_64  OK    OK    OK  UNNEEDED, same version is already published
palomino7Windows Server 2022 Datacenter / x64  OK    OK    OK    OK  
merida1macOS 12.7.5 Monterey / x86_64  OK    OK    OK    OK  UNNEEDED, same version is already published
kjohnson1macOS 13.6.6 Ventura / arm64  OK    OK    OK    NA  
Package 62/81HostnameOS / ArchINSTALLBUILDCHECKBUILD BIN
RIPAT 1.14.0  (landing page)
Min-Jeong Baek
git_last_commit: f2a161d
git_last_commit_date: 2024-04-30 11:26:21 -0400
nebbiolo1Linux (Ubuntu 22.04.3 LTS) / x86_64  OK    OK    ERROR  
palomino7Windows Server 2022 Datacenter / x64  OK    OK    OK    OK  
merida1macOS 12.7.5 Monterey / x86_64  OK    OK    OK    OK  UNNEEDED, same version is already published
kjohnson1macOS 13.6.6 Ventura / arm64  OK    OK    OK    NA  
Package 63/81HostnameOS / ArchINSTALLBUILDCHECKBUILD BIN
RnaSeqSampleSize 2.14.0  (landing page)
Shilin Zhao Developer
git_last_commit: 9238b7e
git_last_commit_date: 2024-04-30 11:28:06 -0400
nebbiolo1Linux (Ubuntu 22.04.3 LTS) / x86_64  OK    OK    OK  UNNEEDED, same version is already published
palomino7Windows Server 2022 Datacenter / x64  OK    OK    OK    OK  
merida1macOS 12.7.5 Monterey / x86_64  OK    OK    OK    OK  UNNEEDED, same version is already published
kjohnson1macOS 13.6.6 Ventura / arm64  OK    OK    OK    NA  
Package 64/81HostnameOS / ArchINSTALLBUILDCHECKBUILD BIN
scPipe 2.4.0  (landing page)
Shian Su
git_last_commit: 1f02d19
git_last_commit_date: 2024-04-30 11:01:36 -0400
nebbiolo1Linux (Ubuntu 22.04.3 LTS) / x86_64  OK    OK    OK  UNNEEDED, same version is already published
palomino7Windows Server 2022 Datacenter / x64  OK    OK    OK    OK  
merida1macOS 12.7.5 Monterey / x86_64  OK    OK    OK    OK  UNNEEDED, same version is already published
kjohnson1macOS 13.6.6 Ventura / arm64  OK    OK    OK    NA  
Package 65/81HostnameOS / ArchINSTALLBUILDCHECKBUILD BIN
seq2pathway 1.36.0  (landing page)
Arjun Kinstlick
git_last_commit: 5c1aa8c
git_last_commit_date: 2024-04-30 10:41:24 -0400
nebbiolo1Linux (Ubuntu 22.04.3 LTS) / x86_64  OK    OK    WARNINGS  UNNEEDED, same version is already published
palomino7Windows Server 2022 Datacenter / x64  OK    OK    WARNINGS    OK  
merida1macOS 12.7.5 Monterey / x86_64  OK    OK    WARNINGS    OK  UNNEEDED, same version is already published
kjohnson1macOS 13.6.6 Ventura / arm64  OK    OK    WARNINGS    NA  
Package 66/81HostnameOS / ArchINSTALLBUILDCHECKBUILD BIN
SeqGSEA 1.44.0  (landing page)
Xi Wang
git_last_commit: 3dbebc5
git_last_commit_date: 2024-04-30 10:31:23 -0400
nebbiolo1Linux (Ubuntu 22.04.3 LTS) / x86_64  OK    OK    OK  UNNEEDED, same version is already published
palomino7Windows Server 2022 Datacenter / x64  OK    OK    OK    OK  
merida1macOS 12.7.5 Monterey / x86_64  OK    OK    OK    OK  UNNEEDED, same version is already published
kjohnson1macOS 13.6.6 Ventura / arm64  OK    OK    OK    NA  
Package 67/81HostnameOS / ArchINSTALLBUILDCHECKBUILD BIN
sitadela 1.12.0  (landing page)
Panagiotis Moulos
git_last_commit: 19f078e
git_last_commit_date: 2024-04-30 11:32:08 -0400
nebbiolo1Linux (Ubuntu 22.04.3 LTS) / x86_64  OK    OK    OK  UNNEEDED, same version is already published
palomino7Windows Server 2022 Datacenter / x64  OK    OK    OK    OK  
merida1macOS 12.7.5 Monterey / x86_64  OK    OK    OK    OK  UNNEEDED, same version is already published
kjohnson1macOS 13.6.6 Ventura / arm64  OK    OK    OK    NA  
Package 68/81HostnameOS / ArchINSTALLBUILDCHECKBUILD BIN
SPLINTER 1.30.0  (landing page)
Diana Low
git_last_commit: 29fb995
git_last_commit_date: 2024-04-30 10:53:54 -0400
nebbiolo1Linux (Ubuntu 22.04.3 LTS) / x86_64  OK    OK    OK  UNNEEDED, same version is already published
palomino7Windows Server 2022 Datacenter / x64  OK    OK    WARNINGS    OK  
merida1macOS 12.7.5 Monterey / x86_64  OK    OK    OK    OK  UNNEEDED, same version is already published
kjohnson1macOS 13.6.6 Ventura / arm64  OK    ERROR  skippedskipped
Package 69/81HostnameOS / ArchINSTALLBUILDCHECKBUILD BIN
SPONGE 1.26.0  (landing page)
Markus List
git_last_commit: 3090edf
git_last_commit_date: 2024-04-30 11:00:03 -0400
nebbiolo1Linux (Ubuntu 22.04.3 LTS) / x86_64  OK    OK    WARNINGS  NO, package depends on 'miRBaseConverter' which is not available
palomino7Windows Server 2022 Datacenter / x64  OK    OK    WARNINGS    OK  
merida1macOS 12.7.5 Monterey / x86_64  OK    OK    WARNINGS    OK  UNNEEDED, same version is already published
kjohnson1macOS 13.6.6 Ventura / arm64  OK    OK    WARNINGS    NA  
Package 70/81HostnameOS / ArchINSTALLBUILDCHECKBUILD BIN
surfaltr 1.10.0  (landing page)
Pooja Gangras
git_last_commit: e64160b
git_last_commit_date: 2024-04-30 11:37:40 -0400
nebbiolo1Linux (Ubuntu 22.04.3 LTS) / x86_64  OK    OK    OK  UNNEEDED, same version is already published
palomino7Windows Server 2022 Datacenter / x64  OK    OK    OK    OK  
merida1macOS 12.7.5 Monterey / x86_64  OK    OK    OK    OK  UNNEEDED, same version is already published
kjohnson1macOS 13.6.6 Ventura / arm64  OK    OK    OK    NA  
Package 71/81HostnameOS / ArchINSTALLBUILDCHECKBUILD BIN
SurfR 1.0.0  (landing page)
Aurora Maurizio
git_last_commit: 21e00c6
git_last_commit_date: 2024-04-30 11:54:06 -0400
nebbiolo1Linux (Ubuntu 22.04.3 LTS) / x86_64  OK    OK    OK  UNNEEDED, same version is already published
palomino7Windows Server 2022 Datacenter / x64  OK    ERROR  skippedskipped
merida1macOS 12.7.5 Monterey / x86_64  OK    OK    OK    OK  UNNEEDED, same version is already published
kjohnson1macOS 13.6.6 Ventura / arm64  OK    OK    OK    NA  
Package 72/81HostnameOS / ArchINSTALLBUILDCHECKBUILD BIN
SWATH2stats 1.34.0  (landing page)
Peter Blattmann
git_last_commit: 4ba3d06
git_last_commit_date: 2024-04-30 10:46:14 -0400
nebbiolo1Linux (Ubuntu 22.04.3 LTS) / x86_64  OK    OK    OK  UNNEEDED, same version is already published
palomino7Windows Server 2022 Datacenter / x64  OK    OK    OK    OK  
merida1macOS 12.7.5 Monterey / x86_64  OK    OK    OK    OK  UNNEEDED, same version is already published
kjohnson1macOS 13.6.6 Ventura / arm64  OK    OK    ERROR    NA  
Package 73/81HostnameOS / ArchINSTALLBUILDCHECKBUILD BIN
TCGAbiolinks 2.32.0  (landing page)
Tiago Chedraoui Silva
git_last_commit: c270a75
git_last_commit_date: 2024-04-30 10:45:10 -0400
nebbiolo1Linux (Ubuntu 22.04.3 LTS) / x86_64  OK    OK    WARNINGS  UNNEEDED, same version is already published
palomino7Windows Server 2022 Datacenter / x64  OK    OK    WARNINGS    OK  
merida1macOS 12.7.5 Monterey / x86_64  OK    OK    WARNINGS    OK  UNNEEDED, same version is already published
kjohnson1macOS 13.6.6 Ventura / arm64  OK    ERROR  skippedskipped
Package 74/81HostnameOS / ArchINSTALLBUILDCHECKBUILD BIN
TEKRABber 1.8.0  (landing page)
Yao-Chung Chen
git_last_commit: a0f7fd4
git_last_commit_date: 2024-04-30 11:40:20 -0400
nebbiolo1Linux (Ubuntu 22.04.3 LTS) / x86_64  OK    OK    OK  UNNEEDED, same version is already published
palomino7Windows Server 2022 Datacenter / x64  OK    OK    OK    OK  
merida1macOS 12.7.5 Monterey / x86_64  OK    OK    OK    OK  UNNEEDED, same version is already published
kjohnson1macOS 13.6.6 Ventura / arm64  OK    OK    OK    NA  
Package 75/81HostnameOS / ArchINSTALLBUILDCHECKBUILD BIN
TFEA.ChIP 1.24.0  (landing page)
Laura Puente Santamaría
git_last_commit: 558f990
git_last_commit_date: 2024-04-30 11:03:03 -0400
nebbiolo1Linux (Ubuntu 22.04.3 LTS) / x86_64  OK    OK    OK  UNNEEDED, same version is already published
palomino7Windows Server 2022 Datacenter / x64  OK    OK    OK    OK  
merida1macOS 12.7.5 Monterey / x86_64  OK    OK    OK    OK  UNNEEDED, same version is already published
kjohnson1macOS 13.6.6 Ventura / arm64  OK    OK    OK    NA  
Package 76/81HostnameOS / ArchINSTALLBUILDCHECKBUILD BIN
TimiRGeN 1.14.0  (landing page)
Krutik Patel
git_last_commit: 1b922fc
git_last_commit_date: 2024-04-30 11:26:47 -0400
nebbiolo1Linux (Ubuntu 22.04.3 LTS) / x86_64  OK    OK    ERROR  
palomino7Windows Server 2022 Datacenter / x64  OK    OK    ERROR    OK  
merida1macOS 12.7.5 Monterey / x86_64  OK    OK    ERROR    OK  
kjohnson1macOS 13.6.6 Ventura / arm64  OK    OK    ERROR    NA  
Package 77/81HostnameOS / ArchINSTALLBUILDCHECKBUILD BIN
transcriptogramer 1.26.0  (landing page)
Diego Morais
git_last_commit: 6cc572c
git_last_commit_date: 2024-04-30 11:02:33 -0400
nebbiolo1Linux (Ubuntu 22.04.3 LTS) / x86_64  OK    OK    OK  UNNEEDED, same version is already published
palomino7Windows Server 2022 Datacenter / x64  OK    OK    OK    OK  
merida1macOS 12.7.5 Monterey / x86_64  OK    OK    OK    OK  UNNEEDED, same version is already published
kjohnson1macOS 13.6.6 Ventura / arm64  OK    OK    OK    NA  
Package 78/81HostnameOS / ArchINSTALLBUILDCHECKBUILD BIN
txdbmaker 1.0.1  (landing page)
H. Pagès
git_last_commit: 555cfa8
git_last_commit_date: 2024-06-19 17:41:46 -0400
nebbiolo1Linux (Ubuntu 22.04.3 LTS) / x86_64  OK    OK    OK  UNNEEDED, same version is already published
palomino7Windows Server 2022 Datacenter / x64  OK    OK    ERROR    OK  
merida1macOS 12.7.5 Monterey / x86_64  OK    OK    OK    OK  UNNEEDED, same version is already published
kjohnson1macOS 13.6.6 Ventura / arm64  OK    OK    OK    NA  
Package 79/81HostnameOS / ArchINSTALLBUILDCHECKBUILD BIN
VegaMC 3.42.0  (landing page)
Sandro Morganella
git_last_commit: 1f084a1
git_last_commit_date: 2024-04-30 10:27:21 -0400
nebbiolo1Linux (Ubuntu 22.04.3 LTS) / x86_64  OK    OK    WARNINGS  UNNEEDED, same version is already published
palomino7Windows Server 2022 Datacenter / x64  OK    OK    WARNINGS    OK  
merida1macOS 12.7.5 Monterey / x86_64  OK    OK    WARNINGS    OK  UNNEEDED, same version is already published
kjohnson1macOS 13.6.6 Ventura / arm64  OK    OK    WARNINGS    NA  
Package 80/81HostnameOS / ArchINSTALLBUILDCHECKBUILD BIN
ViSEAGO 1.18.0  (landing page)
Aurelien Brionne
git_last_commit: 5e80111
git_last_commit_date: 2024-04-30 11:15:53 -0400
nebbiolo1Linux (Ubuntu 22.04.3 LTS) / x86_64  OK    OK    WARNINGS  UNNEEDED, same version is already published
palomino7Windows Server 2022 Datacenter / x64  OK    OK    WARNINGS    OK  
merida1macOS 12.7.5 Monterey / x86_64  OK    OK    WARNINGS    OK  UNNEEDED, same version is already published
kjohnson1macOS 13.6.6 Ventura / arm64  OK    OK    WARNINGS    NA  
Package 81/81HostnameOS / ArchINSTALLBUILDCHECKBUILD BIN
yarn 1.30.0  (landing page)
Joseph N Paulson
git_last_commit: 54b819d
git_last_commit_date: 2024-04-30 10:55:03 -0400
nebbiolo1Linux (Ubuntu 22.04.3 LTS) / x86_64  OK    OK    OK  UNNEEDED, same version is already published
palomino7Windows Server 2022 Datacenter / x64  OK    OK    OK    OK  
merida1macOS 12.7.5 Monterey / x86_64  OK    OK    OK    OK  UNNEEDED, same version is already published
kjohnson1macOS 13.6.6 Ventura / arm64  OK    OK    OK    NA