Name | Last modified | Size | Description | |
---|---|---|---|---|
Parent Directory | - | |||
buildbin-out.txt | 12-Jun-2024 03:41 | 5.2K | ||
buildbin-summary.dcf | 12-Jun-2024 03:41 | 533 | ||
buildsrc-out.txt | 12-Jun-2024 03:41 | 849 | ||
buildsrc-summary.dcf | 12-Jun-2024 03:41 | 428 | ||
checksrc-out.txt | 12-Jun-2024 03:41 | 3.4K | ||
checksrc-summary.dcf | 12-Jun-2024 03:41 | 446 | ||
install-out.txt | 12-Jun-2024 03:41 | 3.1K | ||
install-summary.dcf | 12-Jun-2024 03:41 | 270 | ||