Name | Last modified | Size | Description | |
---|---|---|---|---|
Parent Directory | - | |||
buildsrc-out.txt | 10-May-2024 00:40 | 672 | ||
buildsrc-summary.dcf | 10-May-2024 00:40 | 352 | ||
checksrc-out.txt | 22-Nov-2023 03:30 | 3.5K | ||
checksrc-summary.dcf | 22-Nov-2023 03:30 | 449 | ||
install-out.txt | 10-May-2024 00:40 | 2.6K | ||
install-summary.dcf | 10-May-2024 00:40 | 271 | ||