Back to Multiple platform build/check report for BioC 3.15
A[B]CDEFGHIJKLMNOPQRSTUVWXYZ

This page was generated on 2022-06-01 12:06:23 -0400 (Wed, 01 Jun 2022).

HostnameOSArch (*)R versionInstalled pkgs
nebbiolo1Linux (Ubuntu 20.04.4 LTS)x86_644.2.0 (2022-04-22) -- "Vigorous Calisthenics" 4380
palomino3Windows Server 2022 Datacenterx644.2.0 (2022-04-22 ucrt) -- "Vigorous Calisthenics" 4156
merida1macOS 10.14.6 Mojavex86_644.2.0 (2022-04-22) -- "Vigorous Calisthenics" 4221
Click on any hostname to see more info about the system (e.g. compilers)      (*) as reported by 'uname -p', except on Windows and Mac OS X

BUILD BIN results for biodbKegg on palomino3


To the developers/maintainers of the biodbKegg package:
- Please allow up to 24 hours (and sometimes 48 hours) for your latest push to git@git.bioconductor.org:packages/biodbKegg.git to
reflect on this report. See How and When does the builder pull? When will my changes propagate? for more information.
- Make sure to use the following settings in order to reproduce any error or warning you see on this page.

raw results

Package 180/2140HostnameOS / ArchINSTALLBUILDCHECKBUILD BIN
biodbKegg 1.2.0  (landing page)
Pierrick Roger
Snapshot Date: 2022-05-31 13:55:12 -0400 (Tue, 31 May 2022)
git_url: https://git.bioconductor.org/packages/biodbKegg
git_branch: RELEASE_3_15
git_last_commit: 3167f7e
git_last_commit_date: 2022-04-26 12:19:28 -0400 (Tue, 26 Apr 2022)
nebbiolo1Linux (Ubuntu 20.04.4 LTS) / x86_64  OK    OK    OK  UNNEEDED, same version is already published
palomino3Windows Server 2022 Datacenter / x64  OK    OK    ERROR    OK  
merida1macOS 10.14.6 Mojave / x86_64  OK    OK    ERROR    OK  

Summary

Package: biodbKegg
Version: 1.2.0
Command: rm -rf biodbKegg.buildbin-libdir && mkdir biodbKegg.buildbin-libdir && F:\biocbuild\bbs-3.15-bioc\R\bin\R.exe CMD INSTALL --build --library=biodbKegg.buildbin-libdir biodbKegg_1.2.0.tar.gz
StartedAt: 2022-06-01 06:26:11 -0400 (Wed, 01 Jun 2022)
EndedAt: 2022-06-01 06:26:41 -0400 (Wed, 01 Jun 2022)
EllapsedTime: 30.1 seconds
RetCode: 0
Status:   OK  
PackageFile: biodbKegg_1.2.0.zip
PackageFileSize: 1.216 MiB

Command output

##############################################################################
##############################################################################
###
### Running command:
###
###   rm -rf biodbKegg.buildbin-libdir && mkdir biodbKegg.buildbin-libdir && F:\biocbuild\bbs-3.15-bioc\R\bin\R.exe CMD INSTALL --build --library=biodbKegg.buildbin-libdir biodbKegg_1.2.0.tar.gz
###
##############################################################################
##############################################################################


* installing *source* package 'biodbKegg' ...
** using staged installation
** R
** inst
** byte-compile and prepare package for lazy loading
** help
*** installing help indices
** building package indices
** installing vignettes
** testing if installed package can be loaded from temporary location
** testing if installed package can be loaded from final location
** testing if installed package keeps a record of temporary installation path
* MD5 sums
packaged installation of 'biodbKegg' as biodbKegg_1.2.0.zip
* DONE (biodbKegg)