Name | Last modified | Size | Description | |
---|---|---|---|---|
Parent Directory | - | |||
buildbin-out.txt | 27-Jul-2024 06:38 | 1.1K | ||
buildbin-summary.dcf | 27-Jul-2024 06:38 | 527 | ||
buildsrc-out.txt | 27-Jul-2024 06:38 | 849 | ||
buildsrc-summary.dcf | 27-Jul-2024 06:38 | 460 | ||
checksrc-out.txt | 27-Jul-2024 06:38 | 3.4K | ||
checksrc-summary.dcf | 27-Jul-2024 06:38 | 454 | ||
install-out.txt | 27-Jul-2024 06:38 | 968 | ||
install-summary.dcf | 27-Jul-2024 06:38 | 272 | ||