Name | Last modified | Size | Description | |
---|---|---|---|---|
Parent Directory | - | |||
install-summary.dcf | 29-Jun-2024 06:41 | 272 | ||
install-out.txt | 29-Jun-2024 06:41 | 968 | ||
checksrc-summary.dcf | 29-Jun-2024 06:41 | 454 | ||
checksrc-out.txt | 29-Jun-2024 06:41 | 3.4K | ||
buildsrc-summary.dcf | 29-Jun-2024 06:41 | 460 | ||
buildsrc-out.txt | 29-Jun-2024 06:41 | 849 | ||
buildbin-summary.dcf | 29-Jun-2024 06:41 | 527 | ||
buildbin-out.txt | 29-Jun-2024 06:41 | 1.1K | ||