Back to Multiple platform build/check report for BioC 3.14
A[B]CDEFGHIJKLMNOPQRSTUVWXYZ

This page was generated on 2021-11-24 15:05:21 -0500 (Wed, 24 Nov 2021).

INSTALL results for bioCancer on tokay2

To the developers/maintainers of the bioCancer package:
- Please allow up to 24 hours (and sometimes 48 hours) for your latest push to git@git.bioconductor.org:packages/bioCancer.git to
reflect on this report. See How and When does the builder pull? When will my changes propagate? here for more information.
- Make sure to use the following settings in order to reproduce any error or warning you see on this page.

raw results

Package 155/2083HostnameOS / ArchINSTALLBUILDCHECKBUILD BIN
bioCancer 1.22.0  (landing page)
Karim Mezhoud
Snapshot Date: 2021-11-23 04:15:06 -0500 (Tue, 23 Nov 2021)
git_url: https://git.bioconductor.org/packages/bioCancer
git_branch: RELEASE_3_14
git_last_commit: bd61aa9
git_last_commit_date: 2021-10-26 12:28:03 -0500 (Tue, 26 Oct 2021)
nebbiolo2Linux (Ubuntu 20.04.3 LTS) / x86_64  OK    OK    OK  UNNEEDED, same version is already published
tokay2Windows Server 2012 R2 Standard / x64  OK    OK    OK    OK  UNNEEDED, same version is already published
machv2macOS 10.14.6 Mojave / x86_64  OK    OK    OK    OK  UNNEEDED, same version is already published

Summary

Package: bioCancer
Version: 1.22.0
Command: C:\cygwin\bin\curl.exe -O http://155.52.207.166/BBS/3.14/bioc/src/contrib/bioCancer_1.22.0.tar.gz && rm -rf bioCancer.buildbin-libdir && mkdir bioCancer.buildbin-libdir && C:\Users\biocbuild\bbs-3.14-bioc\R\bin\R.exe CMD INSTALL --merge-multiarch --build --library=bioCancer.buildbin-libdir bioCancer_1.22.0.tar.gz && C:\Users\biocbuild\bbs-3.14-bioc\R\bin\R.exe CMD INSTALL bioCancer_1.22.0.zip && rm bioCancer_1.22.0.tar.gz bioCancer_1.22.0.zip
StartedAt: 2021-11-23 08:51:52 -0500 (Tue, 23 Nov 2021)
EndedAt: 2021-11-23 08:52:58 -0500 (Tue, 23 Nov 2021)
EllapsedTime: 65.9 seconds
RetCode: 0
Status:   OK  

Command output

##############################################################################
##############################################################################
###
### Running command:
###
###   C:\cygwin\bin\curl.exe -O http://155.52.207.166/BBS/3.14/bioc/src/contrib/bioCancer_1.22.0.tar.gz && rm -rf bioCancer.buildbin-libdir && mkdir bioCancer.buildbin-libdir && C:\Users\biocbuild\bbs-3.14-bioc\R\bin\R.exe CMD INSTALL --merge-multiarch --build --library=bioCancer.buildbin-libdir bioCancer_1.22.0.tar.gz && C:\Users\biocbuild\bbs-3.14-bioc\R\bin\R.exe CMD INSTALL bioCancer_1.22.0.zip && rm bioCancer_1.22.0.tar.gz bioCancer_1.22.0.zip
###
##############################################################################
##############################################################################


  % Total    % Received % Xferd  Average Speed   Time    Time     Time  Current
                                 Dload  Upload   Total   Spent    Left  Speed

  0     0    0     0    0     0      0      0 --:--:-- --:--:-- --:--:--     0
  0 6715k    0 14875    0     0   126k      0  0:00:52 --:--:--  0:00:52  126k
 50 6715k   50 3376k    0     0  3056k      0  0:00:02  0:00:01  0:00:01 3055k
100 6715k  100 6715k    0     0  3652k      0  0:00:01  0:00:01 --:--:-- 3651k

install for i386

* installing *source* package 'bioCancer' ...
** using staged installation
** R
** data
*** moving datasets to lazyload DB
** inst
** byte-compile and prepare package for lazy loading
** help
*** installing help indices
  converting help for package 'bioCancer'
    finding HTML links ... done
    AnnotationFuncs-package                 html  
    Edges_Diseases_obj                      html  
    Mutation_obj                            html  
    Node_Diseases_obj                       html  
    Node_df_FreqIn                          html  
    Node_obj_CNA_ProfData                   html  
    Node_obj_FreqIn                         html  
    Node_obj_Met_ProfData                   html  
    Node_obj_mRNA_Classifier                html  
    Studies_obj                             html  
    UnifyRowNames                           html  
    attriColorGene                          html  
    attriColorValue                         html  
    attriColorVector                        html  
    attriShape2Gene                         html  
    attriShape2Node                         html  
    bioCancer                               html  
    checkDimensions                         html  
    coffeewheel                             html  
    coffeewheelOutput                       html  
    displayTable                            html  
    dot-dbEscapeString                      html  
    dot-getTableName                        html  
    dot-pickRef                             html  
    epiGenomics                             html  
    findPhantom                             html  
    getEvidenceCodes                        html  
    getFreqMutData                          html  
    getGenesClassification                  html  
    getListProfData                         html  
    getList_Cases                           html  
    getList_GenProfs                        html  
    getMegaProfData                         html  
    getOrthologs                            html  
    getSequensed_SampleSize                 html  
    grepRef                                 html  
    mapLists                                html  
    metabologram                            html  
    metabologramOutput                      html  
    pickGO                                  html  
    pickRefSeq                              html  
    reStrColorGene                          html  
    reStrDimension                          html  
    reStrDisease                            html  
    removeNAs                               html  
    renderCoffeewheel                       html  
    renderMetabologram                      html  
    returnTextAreaInput                     html  
    switchButton                            html  
    translate                               html  
    user_CNA                                html  
    user_MetHM27                            html  
    user_MetHM450                           html  
    user_Mut                                html  
    user_mRNA                               html  
    whichGeneList                           html  
    widgetThumbnail                         html  
** building package indices
** installing vignettes
** testing if installed package can be loaded from temporary location
** testing if installed package can be loaded from final location
** testing if installed package keeps a record of temporary installation path

install for x64

* installing *source* package 'bioCancer' ...
** testing if installed package can be loaded
* MD5 sums
packaged installation of 'bioCancer' as bioCancer_1.22.0.zip
* DONE (bioCancer)
* installing to library 'C:/Users/biocbuild/bbs-3.14-bioc/R/library'
package 'bioCancer' successfully unpacked and MD5 sums checked