Index of /checkResults/release/bioc-LATEST/bioCancer/raw-results/nebbiolo1

[ICO]NameLast modifiedSizeDescription

[DIR]Parent Directory  -  
[TXT]install-out.txt16-Aug-2022 02:19 1.0K 
[   ]install-summary.dcf16-Aug-2022 02:19 264  
[TXT]buildsrc-out.txt16-Aug-2022 02:19 815  
[   ]buildsrc-summary.dcf16-Aug-2022 02:19 425  
[   ]checksrc-summary.dcf16-Aug-2022 02:19 434  
[TXT]checksrc-out.txt16-Aug-2022 02:19 3.5K