Index of /checkResults/release/bioc-LATEST/bioCancer/raw-results/nebbiolo1

[ICO]NameLast modifiedSizeDescription

[DIR]Parent Directory  -  
[TXT]buildsrc-out.txt02-Jul-2022 01:05 815  
[   ]buildsrc-summary.dcf02-Jul-2022 01:05 425  
[TXT]checksrc-out.txt02-Jul-2022 01:05 3.5K 
[   ]checksrc-summary.dcf02-Jul-2022 01:05 434  
[TXT]install-out.txt02-Jul-2022 01:05 1.0K 
[   ]install-summary.dcf02-Jul-2022 01:05 264