Index of /checkResults/release/bioc-LATEST/bioCancer/raw-results/merida1

[ICO]NameLast modifiedSizeDescription

[DIR]Parent Directory  -  
[TXT]buildbin-out.txt02-Jul-2022 01:07 1.2K 
[   ]buildbin-summary.dcf02-Jul-2022 01:07 545  
[TXT]buildsrc-out.txt02-Jul-2022 01:07 825  
[   ]buildsrc-summary.dcf02-Jul-2022 01:07 435  
[TXT]checksrc-out.txt02-Jul-2022 01:07 3.6K 
[   ]checksrc-summary.dcf02-Jul-2022 01:07 454  
[TXT]install-out.txt02-Jul-2022 01:07 1.0K 
[   ]install-summary.dcf02-Jul-2022 01:07 274