Index of /checkResults/release/bioc-LATEST/bioCancer/raw-results

[ICO]NameLast modifiedSizeDescription

[DIR]Parent Directory  -  
[   ]info.dcf27-Jan-2022 03:07 274  
[DIR]machv2/27-Jan-2022 03:07 -  
[DIR]nebbiolo2/27-Jan-2022 03:05 -  
[DIR]tokay2/27-Jan-2022 03:06 -