Name | Last modified | Size | Description | |
---|---|---|---|---|
Parent Directory | - | |||
buildbin-out.txt | 30-Mar-2024 00:37 | 7.4K | ||
buildbin-summary.dcf | 30-Mar-2024 00:37 | 504 | ||
buildsrc-out.txt | 30-Mar-2024 00:37 | 830 | ||
buildsrc-summary.dcf | 30-Mar-2024 00:37 | 415 | ||
checksrc-out.txt | 30-Mar-2024 00:37 | 8.6K | ||
checksrc-summary.dcf | 30-Mar-2024 00:37 | 434 | ||
install-out.txt | 30-Mar-2024 00:37 | 5.4K | ||
install-summary.dcf | 30-Mar-2024 00:37 | 261 | ||