Index of /checkResults/release/bioc-LATEST/benchdamic/raw-results/riesling1

[ICO]NameLast modifiedSizeDescription

[DIR]Parent Directory  -  
[TXT]buildbin-out.txt19-Mar-2022 00:07 4.9K 
[   ]buildbin-summary.dcf19-Mar-2022 00:07 530  
[TXT]buildsrc-out.txt19-Mar-2022 00:07 853  
[   ]buildsrc-summary.dcf19-Mar-2022 00:07 463  
[TXT]checksrc-out.txt19-Mar-2022 00:07 3.3K 
[   ]checksrc-summary.dcf19-Mar-2022 00:07 457  
[TXT]install-out.txt19-Mar-2022 00:07 4.8K 
[   ]install-summary.dcf19-Mar-2022 00:07 273