Index of /checkResults/release/bioc-LATEST/beachmat/raw-results/palomino4

[ICO]NameLast modifiedSizeDescription

[DIR]Parent Directory  -  
[TXT]buildbin-out.txt30-Mar-2024 00:36 8.9K 
[   ]buildbin-summary.dcf30-Mar-2024 00:36 522  
[TXT]buildsrc-out.txt30-Mar-2024 00:36 876  
[   ]buildsrc-summary.dcf30-Mar-2024 00:36 457  
[TXT]checksrc-out.txt30-Mar-2024 00:36 4.6K 
[   ]checksrc-summary.dcf30-Mar-2024 00:36 451  
[TXT]install-out.txt30-Mar-2024 00:36 8.7K 
[   ]install-summary.dcf30-Mar-2024 00:36 271