![]() | Name | Last modified | Size | Description |
---|---|---|---|---|
![]() | Parent Directory | - | ||
![]() | buildsrc-out.txt | 26-Sep-2023 00:35 | 840 | |
![]() | buildsrc-summary.dcf | 26-Sep-2023 00:35 | 420 | |
![]() | checksrc-out.txt | 26-Sep-2023 00:35 | 4.0K | |
![]() | checksrc-summary.dcf | 26-Sep-2023 00:35 | 418 | |
![]() | install-out.txt | 26-Sep-2023 00:35 | 1.8K | |
![]() | install-summary.dcf | 26-Sep-2023 00:35 | 261 | |