![]() | Name | Last modified | Size | Description |
---|---|---|---|---|
![]() | Parent Directory | - | ||
![]() | buildbin-out.txt | 23-Sep-2023 00:37 | 4.3K | |
![]() | buildbin-summary.dcf | 23-Sep-2023 00:37 | 536 | |
![]() | buildsrc-out.txt | 23-Sep-2023 00:37 | 850 | |
![]() | buildsrc-summary.dcf | 23-Sep-2023 00:37 | 431 | |
![]() | checksrc-out.txt | 23-Sep-2023 00:37 | 3.8K | |
![]() | checksrc-summary.dcf | 23-Sep-2023 00:37 | 449 | |
![]() | install-out.txt | 23-Sep-2023 00:37 | 2.2K | |
![]() | install-summary.dcf | 23-Sep-2023 00:37 | 271 | |