Index of /checkResults/release/bioc-LATEST/batchelor/raw-results/palomino4

[ICO]NameLast modifiedSizeDescription

[DIR]Parent Directory  -  
[TXT]buildbin-out.txt30-Mar-2024 00:36 4.7K 
[   ]buildbin-summary.dcf30-Mar-2024 00:36 527  
[TXT]buildsrc-out.txt30-Mar-2024 00:36 881  
[   ]buildsrc-summary.dcf30-Mar-2024 00:36 461  
[TXT]checksrc-out.txt30-Mar-2024 00:36 4.2K 
[   ]checksrc-summary.dcf30-Mar-2024 00:36 455  
[TXT]install-out.txt30-Mar-2024 00:36 4.5K 
[   ]install-summary.dcf30-Mar-2024 00:36 272