Name | Last modified | Size | Description | |
---|---|---|---|---|
Parent Directory | - | |||
buildsrc-out.txt | 03-Nov-2023 00:40 | 658 | ||
buildsrc-summary.dcf | 03-Nov-2023 00:40 | 338 | ||
checksrc-out.txt | 25-Oct-2023 00:40 | 3.7K | ||
checksrc-summary.dcf | 25-Oct-2023 00:40 | 411 | ||
install-out.txt | 03-Nov-2023 00:40 | 4.2K | ||
install-summary.dcf | 03-Nov-2023 00:40 | 257 | ||