Name | Last modified | Size | Description | |
---|---|---|---|---|
Parent Directory | - | |||
buildbin-out.txt | 21-May-2024 00:36 | 957 | ||
buildbin-summary.dcf | 21-May-2024 00:36 | 521 | ||
buildsrc-out.txt | 21-May-2024 00:36 | 1.0K | ||
buildsrc-summary.dcf | 21-May-2024 00:36 | 456 | ||
checksrc-out.txt | 21-May-2024 00:36 | 3.5K | ||
checksrc-summary.dcf | 21-May-2024 00:36 | 450 | ||
install-out.txt | 21-May-2024 00:36 | 823 | ||
install-summary.dcf | 21-May-2024 00:36 | 270 | ||