Name | Last modified | Size | Description | |
---|---|---|---|---|
Parent Directory | - | |||
install-out.txt | 17-Jul-2024 06:38 | 1.0K | ||
install-summary.dcf | 17-Jul-2024 06:38 | 272 | ||
buildsrc-summary.dcf | 17-Jul-2024 06:38 | 437 | ||
buildsrc-out.txt | 17-Jul-2024 06:38 | 834 | ||
checksrc-out.txt | 17-Jul-2024 06:38 | 3.1K | ||
checksrc-summary.dcf | 17-Jul-2024 06:38 | 441 | ||