Name | Last modified | Size | Description | |
---|---|---|---|---|
Parent Directory | - | |||
checksrc-out.txt | 17-Jul-2024 06:38 | 4.3K | ||
install-out.txt | 17-Jul-2024 06:38 | 961 | ||
buildsrc-out.txt | 17-Jul-2024 06:38 | 858 | ||
checksrc-summary.dcf | 17-Jul-2024 06:38 | 426 | ||
buildsrc-summary.dcf | 17-Jul-2024 06:38 | 426 | ||
install-summary.dcf | 17-Jul-2024 06:38 | 265 | ||