Name | Last modified | Size | Description | |
---|---|---|---|---|
Parent Directory | - | |||
buildbin-out.txt | 31-May-2024 00:35 | 6.6K | ||
buildbin-summary.dcf | 31-May-2024 00:35 | 548 | ||
buildsrc-out.txt | 31-May-2024 00:35 | 858 | ||
buildsrc-summary.dcf | 31-May-2024 00:35 | 435 | ||
checksrc-out.txt | 31-May-2024 00:35 | 4.6K | ||
checksrc-summary.dcf | 31-May-2024 00:35 | 456 | ||
install-out.txt | 31-May-2024 00:35 | 3.8K | ||
install-summary.dcf | 31-May-2024 00:35 | 275 | ||