Name | Last modified | Size | Description | |
---|---|---|---|---|
Parent Directory | - | |||
buildsrc-out.txt | 10-May-2024 00:40 | 663 | ||
buildsrc-summary.dcf | 10-May-2024 00:40 | 346 | ||
checksrc-out.txt | 30-Apr-2024 00:40 | 4.6K | ||
checksrc-summary.dcf | 30-Apr-2024 00:40 | 441 | ||
install-out.txt | 10-May-2024 00:40 | 2.0K | ||
install-summary.dcf | 10-May-2024 00:40 | 265 | ||