Back to Multiple platform build/check report for BioC 3.18:   simplified   long
A[B]CDEFGHIJKLMNOPQRSTUVWXYZ

This page was generated on 2024-02-22 11:36:32 -0500 (Thu, 22 Feb 2024).

HostnameOSArch (*)R versionInstalled pkgs
nebbiolo2Linux (Ubuntu 22.04.3 LTS)x86_644.3.2 Patched (2023-11-13 r85521) -- "Eye Holes" 4691
palomino4Windows Server 2022 Datacenterx644.3.2 (2023-10-31 ucrt) -- "Eye Holes" 4444
lconwaymacOS 12.7.1 Montereyx86_644.3.2 Patched (2023-11-01 r85457) -- "Eye Holes" 4465
Click on any hostname to see more info about the system (e.g. compilers)      (*) as reported by 'uname -p', except on Windows and Mac OS X

Package 115/2266HostnameOS / ArchINSTALLBUILDCHECKBUILD BIN
bacon 1.30.0  (landing page)
Maarten van Iterson
Snapshot Date: 2024-02-21 14:05:05 -0500 (Wed, 21 Feb 2024)
git_url: https://git.bioconductor.org/packages/bacon
git_branch: RELEASE_3_18
git_last_commit: 90f4e32
git_last_commit_date: 2023-10-24 10:48:29 -0500 (Tue, 24 Oct 2023)
nebbiolo2Linux (Ubuntu 22.04.3 LTS) / x86_64  OK    OK    OK  UNNEEDED, same version is already published
palomino4Windows Server 2022 Datacenter / x64  OK    OK    OK    OK  UNNEEDED, same version is already published
lconwaymacOS 12.7.1 Monterey / x86_64  OK    OK    OK    OK  UNNEEDED, same version is already published
kjohnson1macOS 13.6.1 Ventura / arm64see weekly results here

BUILD BIN results for bacon on palomino4


To the developers/maintainers of the bacon package:
- Allow up to 24 hours (and sometimes 48 hours) for your latest push to git@git.bioconductor.org:packages/bacon.git to reflect on this report. See Troubleshooting Build Report for more information.
- Use the following Renviron settings to reproduce errors and warnings.
- If 'R CMD check' started to fail recently on the Linux builder(s) over a missing dependency, add the missing dependency to 'Suggests:' in your DESCRIPTION file. See Renviron.bioc for more information.

raw results


Summary

Package: bacon
Version: 1.30.0
Command: rm -rf bacon.buildbin-libdir && mkdir bacon.buildbin-libdir && F:\biocbuild\bbs-3.18-bioc\R\bin\R.exe CMD INSTALL --build --library=bacon.buildbin-libdir bacon_1.30.0.tar.gz
StartedAt: 2024-02-22 08:09:00 -0500 (Thu, 22 Feb 2024)
EndedAt: 2024-02-22 08:09:12 -0500 (Thu, 22 Feb 2024)
EllapsedTime: 12.6 seconds
RetCode: 0
Status:   OK  
PackageFile: bacon_1.30.0.zip
PackageFileSize: 758 KiB

Command output

##############################################################################
##############################################################################
###
### Running command:
###
###   rm -rf bacon.buildbin-libdir && mkdir bacon.buildbin-libdir && F:\biocbuild\bbs-3.18-bioc\R\bin\R.exe CMD INSTALL --build --library=bacon.buildbin-libdir bacon_1.30.0.tar.gz
###
##############################################################################
##############################################################################


* installing *source* package 'bacon' ...
** using staged installation
** libs
using C compiler: 'gcc.exe (GCC) 12.3.0'
gcc  -I"F:/biocbuild/bbs-3.18-bioc/R/include" -DNDEBUG     -I"C:/rtools43/x86_64-w64-mingw32.static.posix/include"     -O2 -Wall  -mfpmath=sse -msse2 -mstackrealign  -c Rinit.c -o Rinit.o
Rinit.c:9:40: warning: missing braces around initializer [-Wmissing-braces]
    9 | static const R_CMethodDef cMethods[] = {
      |                                        ^
gcc  -I"F:/biocbuild/bbs-3.18-bioc/R/include" -DNDEBUG     -I"C:/rtools43/x86_64-w64-mingw32.static.posix/include"     -O2 -Wall  -mfpmath=sse -msse2 -mstackrealign  -c bacon.c -o bacon.o
gcc -shared -s -static-libgcc -o bacon.dll tmp.def Rinit.o bacon.o -LC:/rtools43/x86_64-w64-mingw32.static.posix/lib/x64 -LC:/rtools43/x86_64-w64-mingw32.static.posix/lib -LF:/biocbuild/bbs-3.18-bioc/R/bin/x64 -lR
installing to F:/biocbuild/bbs-3.18-bioc/meat/bacon.buildbin-libdir/00LOCK-bacon/00new/bacon/libs/x64
** R
** inst
** byte-compile and prepare package for lazy loading
** help
*** installing help indices
** building package indices
** installing vignettes
** testing if installed package can be loaded from temporary location
** testing if installed package can be loaded from final location
** testing if installed package keeps a record of temporary installation path
* MD5 sums
packaged installation of 'bacon' as bacon_1.30.0.zip
* DONE (bacon)