Name | Last modified | Size | Description | |
---|---|---|---|---|
Parent Directory | - | |||
install-summary.dcf | 24-Jul-2024 22:05 | 266 | ||
install-out.txt | 24-Jul-2024 22:05 | 3.4K | ||
checksrc-summary.dcf | 24-Jul-2024 22:05 | 436 | ||
checksrc-out.txt | 24-Jul-2024 22:05 | 10K | ||
buildsrc-summary.dcf | 24-Jul-2024 22:05 | 422 | ||
buildsrc-out.txt | 24-Jul-2024 22:05 | 901 | ||
buildbin-summary.dcf | 24-Jul-2024 22:05 | 519 | ||
buildbin-out.txt | 24-Jul-2024 22:05 | 5.4K | ||